BEGIN:VCALENDAR
VERSION:2.0
PRODID:-//Integration Uppsala - ECPv6.15.20//NONSGML v1.0//EN
CALSCALE:GREGORIAN
METHOD:PUBLISH
X-WR-CALNAME:Integration Uppsala
X-ORIGINAL-URL:https://integrationuppsala.se
X-WR-CALDESC:Händelser för Integration Uppsala
REFRESH-INTERVAL;VALUE=DURATION:PT1H
X-Robots-Tag:noindex
X-PUBLISHED-TTL:PT1H
BEGIN:VTIMEZONE
TZID:Europe/Stockholm
BEGIN:DAYLIGHT
TZOFFSETFROM:+0100
TZOFFSETTO:+0200
TZNAME:CEST
DTSTART:20250330T010000
END:DAYLIGHT
BEGIN:STANDARD
TZOFFSETFROM:+0200
TZOFFSETTO:+0100
TZNAME:CET
DTSTART:20251026T010000
END:STANDARD
BEGIN:DAYLIGHT
TZOFFSETFROM:+0100
TZOFFSETTO:+0200
TZNAME:CEST
DTSTART:20260329T010000
END:DAYLIGHT
BEGIN:STANDARD
TZOFFSETFROM:+0200
TZOFFSETTO:+0100
TZNAME:CET
DTSTART:20261025T010000
END:STANDARD
BEGIN:DAYLIGHT
TZOFFSETFROM:+0100
TZOFFSETTO:+0200
TZNAME:CEST
DTSTART:20270328T010000
END:DAYLIGHT
BEGIN:STANDARD
TZOFFSETFROM:+0200
TZOFFSETTO:+0100
TZNAME:CET
DTSTART:20271031T010000
END:STANDARD
END:VTIMEZONE
BEGIN:VEVENT
DTSTART;TZID=Europe/Stockholm:20261229T130000
DTEND;TZID=Europe/Stockholm:20261229T150000
DTSTAMP:20260420T201510
CREATED:20260305T125829Z
LAST-MODIFIED:20260305T125829Z
UID:10020974-1798549200-1798556400@integrationuppsala.se
SUMMARY:Väg till jobb
DESCRIPTION:Vuxenskolan erbjuder gruppbaserade hälso- och informationsaktiviteter samt individuell arbetslivscoachning i insatsen ”Väg till jobb”. Insatsen finansieras av Uppsala kommun. Genom gruppaktiviteter och coachning ska deltagarna stärka sin hälsa\, motivation och självförtroende samt få verktyg att närma sig arbete och studier. ”Väg till jobb” vänder sig till unga vuxna och utrikesfödda vuxna\, exempelvis personer med kort utbildningsbakgrund\, begränsade kunskaper i svenska och/eller psykisk ohälsa. \nMåndagar: 10:00 – 12:00 Individuell coaching\nTisdagar: 13:00- 15:00 Individuell coaching\nTorsdagar: 15:00–17:00 Gruppaktiviteter\nFredagar: 14:00–18:00 Gruppaktiviteter
URL:https://integrationuppsala.se/aktivitet/vag-till-jobb-2/2026-12-29/
LOCATION:Studieförbundet Vuxenskolan\, Kungsängsgatan 12\, Uppsala\, 753 22\, Sverige
CATEGORIES:Arbete & Studier,Rådgivning
ATTACH;FMTTYPE=image/png:https://media.integrationuppsala.se/2025/02/studieforbundet-vuxenskolan.png
ORGANIZER;CN="Studief%C3%B6rbundet Vuxenskolan Uppsala l%C3%A4n":MAILTO:ziad.jaffar@sv.se
END:VEVENT
BEGIN:VEVENT
DTSTART;TZID=Europe/Stockholm:20261231T150000
DTEND;TZID=Europe/Stockholm:20261231T170000
DTSTAMP:20260420T201510
CREATED:20260305T130550Z
LAST-MODIFIED:20260305T130550Z
UID:10021018-1798729200-1798736400@integrationuppsala.se
SUMMARY:Väg till jobb
DESCRIPTION:Vuxenskolan erbjuder gruppbaserade hälso- och informationsaktiviteter samt individuell arbetslivscoachning i insatsen ”Väg till jobb”. Insatsen finansieras av Uppsala kommun. Genom gruppaktiviteter och coachning ska deltagarna stärka sin hälsa\, motivation och självförtroende samt få verktyg att närma sig arbete och studier. ”Väg till jobb” vänder sig till unga vuxna och utrikesfödda vuxna\, exempelvis personer med kort utbildningsbakgrund\, begränsade kunskaper i svenska och/eller psykisk ohälsa. \nMåndagar: 10:00 – 12:00 Individuell coaching\nTisdagar: 13:00- 15:00 Individuell coaching\nTorsdagar: 15:00–17:00 Gruppaktiviteter\nFredagar: 14:00–18:00 Gruppaktiviteter
URL:https://integrationuppsala.se/aktivitet/vag-till-jobb-3/2026-12-31/
LOCATION:Studieförbundet Vuxenskolan\, Kungsängsgatan 12\, Uppsala\, 753 22\, Sverige
CATEGORIES:Arbete & Studier,Rådgivning
ATTACH;FMTTYPE=image/png:https://media.integrationuppsala.se/2025/02/studieforbundet-vuxenskolan.png
ORGANIZER;CN="Studief%C3%B6rbundet Vuxenskolan Uppsala l%C3%A4n":MAILTO:ziad.jaffar@sv.se
END:VEVENT
END:VCALENDAR