BEGIN:VCALENDAR
VERSION:2.0
PRODID:-//Integration Uppsala - ECPv6.15.20//NONSGML v1.0//EN
CALSCALE:GREGORIAN
METHOD:PUBLISH
X-ORIGINAL-URL:https://integrationuppsala.se
X-WR-CALDESC:Händelser för Integration Uppsala
REFRESH-INTERVAL;VALUE=DURATION:PT1H
X-Robots-Tag:noindex
X-PUBLISHED-TTL:PT1H
BEGIN:VTIMEZONE
TZID:Europe/Stockholm
BEGIN:DAYLIGHT
TZOFFSETFROM:+0100
TZOFFSETTO:+0200
TZNAME:CEST
DTSTART:20240331T010000
END:DAYLIGHT
BEGIN:STANDARD
TZOFFSETFROM:+0200
TZOFFSETTO:+0100
TZNAME:CET
DTSTART:20241027T010000
END:STANDARD
BEGIN:DAYLIGHT
TZOFFSETFROM:+0100
TZOFFSETTO:+0200
TZNAME:CEST
DTSTART:20250330T010000
END:DAYLIGHT
BEGIN:STANDARD
TZOFFSETFROM:+0200
TZOFFSETTO:+0100
TZNAME:CET
DTSTART:20251026T010000
END:STANDARD
BEGIN:DAYLIGHT
TZOFFSETFROM:+0100
TZOFFSETTO:+0200
TZNAME:CEST
DTSTART:20260329T010000
END:DAYLIGHT
BEGIN:STANDARD
TZOFFSETFROM:+0200
TZOFFSETTO:+0100
TZNAME:CET
DTSTART:20261025T010000
END:STANDARD
END:VTIMEZONE
BEGIN:VEVENT
DTSTART;TZID=Europe/Stockholm:20250322T110000
DTEND;TZID=Europe/Stockholm:20250322T130000
DTSTAMP:20260423T193302
CREATED:20250311T160836Z
LAST-MODIFIED:20250311T161941Z
UID:10008912-1742641200-1742648400@integrationuppsala.se
SUMMARY:Filmvisning: Sameblod
DESCRIPTION:Evenemanget är en del av Röda Korset Uppsalas initiativ Veckan mot rasism. \nGRATIS INTRÄDE!\nDen kritikerhyllade filmen Sameblod handlar om Elle-Marja som går i nomadskola och bestämmer sig för att bryta med sitt samiska arv och bli svensk. Det är också berättelsen om Sveriges skamliga koloniala historia\, om hemhörighet och utanförskap\, hjälteskap och uppror\, skam och skuld. En film som berör och upprör och manar till viktiga samtal om individuell och nationell historieskrivning. (Källa: Svenska Filminstitutet) \nSVT-kritiker Sofia Olsson: ”’Sameblod’ är en otroligt bra film. Den presenterar varken facit eller förlösande slut. Det är som det är med den här förbannade historien. Och den förbannade samtiden.” (Källa: Svt) \nLand: Sverige\, 2016\,\nRegissör: Amanda Kernell\nLängd: 110 min\nÅldersgräns: Från 11 år \nTid: kl. 11:00\nPlats: Fyrisbiografen\nAnmälan: Via länk nedan\, begränsat antal platser (92 st). Det går också att bara dyka upp\, men då är du inte garanterad en plats. \nOM #VECKANMOTRASISM (17-23 mars)\nRöda Korsets ändamål är att förhindra och lindra mänskligt lidande\, skydda liv och hälsa och säkerställa respekt för varje människas värdighet. Röda Korset främjar ömsesidig förståelse\, tar avstånd från all form av diskriminering och arbetar för att skydda människor mot kränkningar av deras rättigheter. \nUtifrån denna humanitära princip anordnar Uppsala rödakorskrets och Röda Korsets Ungdomsförbund i Uppsala varje år ”Veckan mot rasism” under vecka 12. Under veckan arrangerar vi olika evenemang för att förebygga och motverka rasism samt visa vårt stöd till de som utsätts. \nI år har veckan ett historiskt perspektiv\, där vi utforskar hur tidigare politiska diskurser och historiska skeenden återspeglas i dagens samhälle samt vill lyfta fram paralleller mellan dåtidens och dagens rasism.
URL:https://integrationuppsala.se/aktivitet/filmvisning-sameblod/
LOCATION:Fyrisbiografen\, S:t Olofsgatan 10\, Uppsala\, 75312
CATEGORIES:Kultur & Underhållning
ATTACH;FMTTYPE=image/jpeg:https://media.integrationuppsala.se/2025/03/Sameblod.jpg
ORGANIZER;CN="R%C3%B6da Korset Uppsala":MAILTO:migration.uppsala@redcross.se
END:VEVENT
END:VCALENDAR