BEGIN:VCALENDAR
VERSION:2.0
PRODID:-//Integration Uppsala - ECPv6.15.20//NONSGML v1.0//EN
CALSCALE:GREGORIAN
METHOD:PUBLISH
X-WR-CALNAME:Integration Uppsala
X-ORIGINAL-URL:https://integrationuppsala.se
X-WR-CALDESC:Händelser för Integration Uppsala
REFRESH-INTERVAL;VALUE=DURATION:PT1H
X-Robots-Tag:noindex
X-PUBLISHED-TTL:PT1H
BEGIN:VTIMEZONE
TZID:Europe/Stockholm
BEGIN:DAYLIGHT
TZOFFSETFROM:+0100
TZOFFSETTO:+0200
TZNAME:CEST
DTSTART:20250330T010000
END:DAYLIGHT
BEGIN:STANDARD
TZOFFSETFROM:+0200
TZOFFSETTO:+0100
TZNAME:CET
DTSTART:20251026T010000
END:STANDARD
BEGIN:DAYLIGHT
TZOFFSETFROM:+0100
TZOFFSETTO:+0200
TZNAME:CEST
DTSTART:20260329T010000
END:DAYLIGHT
BEGIN:STANDARD
TZOFFSETFROM:+0200
TZOFFSETTO:+0100
TZNAME:CET
DTSTART:20261025T010000
END:STANDARD
BEGIN:DAYLIGHT
TZOFFSETFROM:+0100
TZOFFSETTO:+0200
TZNAME:CEST
DTSTART:20270328T010000
END:DAYLIGHT
BEGIN:STANDARD
TZOFFSETFROM:+0200
TZOFFSETTO:+0100
TZNAME:CET
DTSTART:20271031T010000
END:STANDARD
END:VTIMEZONE
BEGIN:VEVENT
DTSTART;TZID=Europe/Stockholm:20260422T130000
DTEND;TZID=Europe/Stockholm:20260422T150000
DTSTAMP:20260419T183307
CREATED:20240925T123310Z
LAST-MODIFIED:20240925T123310Z
UID:10007491-1776862800-1776870000@integrationuppsala.se
SUMMARY:Blankett och rådgivning
DESCRIPTION:Vi erbjuder hjälp med att fylla i blanketter och annan rådgivning. Vi kan hjälpa till med att fylla i blanketter\, guida till annan hjälp\, söka information på internet eller förstå brev från till exempel kommunen\, skolan\, Försäkringskassan och Skatteverket.
URL:https://integrationuppsala.se/aktivitet/blankett-och-radgivning/2026-04-22/
LOCATION:Röda Korset Uppsala\, Trädgårdsgatan 16C\, 753 09 Uppsala\, Sverige
CATEGORIES:Arbete & Studier,Rådgivning
ATTACH;FMTTYPE=image/webp:https://media.integrationuppsala.se/2024/09/laxhjalpen_.webp
ORGANIZER;CN="R%C3%B6da Korset Uppsala":MAILTO:migration.uppsala@redcross.se
END:VEVENT
BEGIN:VEVENT
DTSTART;TZID=Europe/Stockholm:20260429T130000
DTEND;TZID=Europe/Stockholm:20260429T150000
DTSTAMP:20260419T183307
CREATED:20240925T123310Z
LAST-MODIFIED:20240925T123310Z
UID:10007492-1777467600-1777474800@integrationuppsala.se
SUMMARY:Blankett och rådgivning
DESCRIPTION:Vi erbjuder hjälp med att fylla i blanketter och annan rådgivning. Vi kan hjälpa till med att fylla i blanketter\, guida till annan hjälp\, söka information på internet eller förstå brev från till exempel kommunen\, skolan\, Försäkringskassan och Skatteverket.
URL:https://integrationuppsala.se/aktivitet/blankett-och-radgivning/2026-04-29/
LOCATION:Röda Korset Uppsala\, Trädgårdsgatan 16C\, 753 09 Uppsala\, Sverige
CATEGORIES:Arbete & Studier,Rådgivning
ATTACH;FMTTYPE=image/webp:https://media.integrationuppsala.se/2024/09/laxhjalpen_.webp
ORGANIZER;CN="R%C3%B6da Korset Uppsala":MAILTO:migration.uppsala@redcross.se
END:VEVENT
BEGIN:VEVENT
DTSTART;TZID=Europe/Stockholm:20260506T130000
DTEND;TZID=Europe/Stockholm:20260506T150000
DTSTAMP:20260419T183307
CREATED:20240925T123310Z
LAST-MODIFIED:20240925T123310Z
UID:10007493-1778072400-1778079600@integrationuppsala.se
SUMMARY:Blankett och rådgivning
DESCRIPTION:Vi erbjuder hjälp med att fylla i blanketter och annan rådgivning. Vi kan hjälpa till med att fylla i blanketter\, guida till annan hjälp\, söka information på internet eller förstå brev från till exempel kommunen\, skolan\, Försäkringskassan och Skatteverket.
URL:https://integrationuppsala.se/aktivitet/blankett-och-radgivning/2026-05-06/
LOCATION:Röda Korset Uppsala\, Trädgårdsgatan 16C\, 753 09 Uppsala\, Sverige
CATEGORIES:Arbete & Studier,Rådgivning
ATTACH;FMTTYPE=image/webp:https://media.integrationuppsala.se/2024/09/laxhjalpen_.webp
ORGANIZER;CN="R%C3%B6da Korset Uppsala":MAILTO:migration.uppsala@redcross.se
END:VEVENT
BEGIN:VEVENT
DTSTART;TZID=Europe/Stockholm:20260513T130000
DTEND;TZID=Europe/Stockholm:20260513T150000
DTSTAMP:20260419T183307
CREATED:20240925T123310Z
LAST-MODIFIED:20240925T123310Z
UID:10007494-1778677200-1778684400@integrationuppsala.se
SUMMARY:Blankett och rådgivning
DESCRIPTION:Vi erbjuder hjälp med att fylla i blanketter och annan rådgivning. Vi kan hjälpa till med att fylla i blanketter\, guida till annan hjälp\, söka information på internet eller förstå brev från till exempel kommunen\, skolan\, Försäkringskassan och Skatteverket.
URL:https://integrationuppsala.se/aktivitet/blankett-och-radgivning/2026-05-13/
LOCATION:Röda Korset Uppsala\, Trädgårdsgatan 16C\, 753 09 Uppsala\, Sverige
CATEGORIES:Arbete & Studier,Rådgivning
ATTACH;FMTTYPE=image/webp:https://media.integrationuppsala.se/2024/09/laxhjalpen_.webp
ORGANIZER;CN="R%C3%B6da Korset Uppsala":MAILTO:migration.uppsala@redcross.se
END:VEVENT
BEGIN:VEVENT
DTSTART;TZID=Europe/Stockholm:20260520T130000
DTEND;TZID=Europe/Stockholm:20260520T150000
DTSTAMP:20260419T183307
CREATED:20240925T123310Z
LAST-MODIFIED:20240925T123310Z
UID:10007495-1779282000-1779289200@integrationuppsala.se
SUMMARY:Blankett och rådgivning
DESCRIPTION:Vi erbjuder hjälp med att fylla i blanketter och annan rådgivning. Vi kan hjälpa till med att fylla i blanketter\, guida till annan hjälp\, söka information på internet eller förstå brev från till exempel kommunen\, skolan\, Försäkringskassan och Skatteverket.
URL:https://integrationuppsala.se/aktivitet/blankett-och-radgivning/2026-05-20/
LOCATION:Röda Korset Uppsala\, Trädgårdsgatan 16C\, 753 09 Uppsala\, Sverige
CATEGORIES:Arbete & Studier,Rådgivning
ATTACH;FMTTYPE=image/webp:https://media.integrationuppsala.se/2024/09/laxhjalpen_.webp
ORGANIZER;CN="R%C3%B6da Korset Uppsala":MAILTO:migration.uppsala@redcross.se
END:VEVENT
BEGIN:VEVENT
DTSTART;TZID=Europe/Stockholm:20260527T130000
DTEND;TZID=Europe/Stockholm:20260527T150000
DTSTAMP:20260419T183307
CREATED:20240925T123310Z
LAST-MODIFIED:20240925T123310Z
UID:10007496-1779886800-1779894000@integrationuppsala.se
SUMMARY:Blankett och rådgivning
DESCRIPTION:Vi erbjuder hjälp med att fylla i blanketter och annan rådgivning. Vi kan hjälpa till med att fylla i blanketter\, guida till annan hjälp\, söka information på internet eller förstå brev från till exempel kommunen\, skolan\, Försäkringskassan och Skatteverket.
URL:https://integrationuppsala.se/aktivitet/blankett-och-radgivning/2026-05-27/
LOCATION:Röda Korset Uppsala\, Trädgårdsgatan 16C\, 753 09 Uppsala\, Sverige
CATEGORIES:Arbete & Studier,Rådgivning
ATTACH;FMTTYPE=image/webp:https://media.integrationuppsala.se/2024/09/laxhjalpen_.webp
ORGANIZER;CN="R%C3%B6da Korset Uppsala":MAILTO:migration.uppsala@redcross.se
END:VEVENT
BEGIN:VEVENT
DTSTART;TZID=Europe/Stockholm:20260603T130000
DTEND;TZID=Europe/Stockholm:20260603T150000
DTSTAMP:20260419T183307
CREATED:20240925T123310Z
LAST-MODIFIED:20240925T123310Z
UID:10007497-1780491600-1780498800@integrationuppsala.se
SUMMARY:Blankett och rådgivning
DESCRIPTION:Vi erbjuder hjälp med att fylla i blanketter och annan rådgivning. Vi kan hjälpa till med att fylla i blanketter\, guida till annan hjälp\, söka information på internet eller förstå brev från till exempel kommunen\, skolan\, Försäkringskassan och Skatteverket.
URL:https://integrationuppsala.se/aktivitet/blankett-och-radgivning/2026-06-03/
LOCATION:Röda Korset Uppsala\, Trädgårdsgatan 16C\, 753 09 Uppsala\, Sverige
CATEGORIES:Arbete & Studier,Rådgivning
ATTACH;FMTTYPE=image/webp:https://media.integrationuppsala.se/2024/09/laxhjalpen_.webp
ORGANIZER;CN="R%C3%B6da Korset Uppsala":MAILTO:migration.uppsala@redcross.se
END:VEVENT
BEGIN:VEVENT
DTSTART;TZID=Europe/Stockholm:20260610T130000
DTEND;TZID=Europe/Stockholm:20260610T150000
DTSTAMP:20260419T183307
CREATED:20240925T123310Z
LAST-MODIFIED:20240925T123310Z
UID:10007498-1781096400-1781103600@integrationuppsala.se
SUMMARY:Blankett och rådgivning
DESCRIPTION:Vi erbjuder hjälp med att fylla i blanketter och annan rådgivning. Vi kan hjälpa till med att fylla i blanketter\, guida till annan hjälp\, söka information på internet eller förstå brev från till exempel kommunen\, skolan\, Försäkringskassan och Skatteverket.
URL:https://integrationuppsala.se/aktivitet/blankett-och-radgivning/2026-06-10/
LOCATION:Röda Korset Uppsala\, Trädgårdsgatan 16C\, 753 09 Uppsala\, Sverige
CATEGORIES:Arbete & Studier,Rådgivning
ATTACH;FMTTYPE=image/webp:https://media.integrationuppsala.se/2024/09/laxhjalpen_.webp
ORGANIZER;CN="R%C3%B6da Korset Uppsala":MAILTO:migration.uppsala@redcross.se
END:VEVENT
BEGIN:VEVENT
DTSTART;TZID=Europe/Stockholm:20260617T130000
DTEND;TZID=Europe/Stockholm:20260617T150000
DTSTAMP:20260419T183307
CREATED:20240925T123310Z
LAST-MODIFIED:20240925T123310Z
UID:10007499-1781701200-1781708400@integrationuppsala.se
SUMMARY:Blankett och rådgivning
DESCRIPTION:Vi erbjuder hjälp med att fylla i blanketter och annan rådgivning. Vi kan hjälpa till med att fylla i blanketter\, guida till annan hjälp\, söka information på internet eller förstå brev från till exempel kommunen\, skolan\, Försäkringskassan och Skatteverket.
URL:https://integrationuppsala.se/aktivitet/blankett-och-radgivning/2026-06-17/
LOCATION:Röda Korset Uppsala\, Trädgårdsgatan 16C\, 753 09 Uppsala\, Sverige
CATEGORIES:Arbete & Studier,Rådgivning
ATTACH;FMTTYPE=image/webp:https://media.integrationuppsala.se/2024/09/laxhjalpen_.webp
ORGANIZER;CN="R%C3%B6da Korset Uppsala":MAILTO:migration.uppsala@redcross.se
END:VEVENT
BEGIN:VEVENT
DTSTART;TZID=Europe/Stockholm:20260624T130000
DTEND;TZID=Europe/Stockholm:20260624T150000
DTSTAMP:20260419T183307
CREATED:20240925T123310Z
LAST-MODIFIED:20240925T123310Z
UID:10007500-1782306000-1782313200@integrationuppsala.se
SUMMARY:Blankett och rådgivning
DESCRIPTION:Vi erbjuder hjälp med att fylla i blanketter och annan rådgivning. Vi kan hjälpa till med att fylla i blanketter\, guida till annan hjälp\, söka information på internet eller förstå brev från till exempel kommunen\, skolan\, Försäkringskassan och Skatteverket.
URL:https://integrationuppsala.se/aktivitet/blankett-och-radgivning/2026-06-24/
LOCATION:Röda Korset Uppsala\, Trädgårdsgatan 16C\, 753 09 Uppsala\, Sverige
CATEGORIES:Arbete & Studier,Rådgivning
ATTACH;FMTTYPE=image/webp:https://media.integrationuppsala.se/2024/09/laxhjalpen_.webp
ORGANIZER;CN="R%C3%B6da Korset Uppsala":MAILTO:migration.uppsala@redcross.se
END:VEVENT
BEGIN:VEVENT
DTSTART;TZID=Europe/Stockholm:20260701T130000
DTEND;TZID=Europe/Stockholm:20260701T150000
DTSTAMP:20260419T183307
CREATED:20240925T123310Z
LAST-MODIFIED:20240925T123310Z
UID:10007501-1782910800-1782918000@integrationuppsala.se
SUMMARY:Blankett och rådgivning
DESCRIPTION:Vi erbjuder hjälp med att fylla i blanketter och annan rådgivning. Vi kan hjälpa till med att fylla i blanketter\, guida till annan hjälp\, söka information på internet eller förstå brev från till exempel kommunen\, skolan\, Försäkringskassan och Skatteverket.
URL:https://integrationuppsala.se/aktivitet/blankett-och-radgivning/2026-07-01/
LOCATION:Röda Korset Uppsala\, Trädgårdsgatan 16C\, 753 09 Uppsala\, Sverige
CATEGORIES:Arbete & Studier,Rådgivning
ATTACH;FMTTYPE=image/webp:https://media.integrationuppsala.se/2024/09/laxhjalpen_.webp
ORGANIZER;CN="R%C3%B6da Korset Uppsala":MAILTO:migration.uppsala@redcross.se
END:VEVENT
BEGIN:VEVENT
DTSTART;TZID=Europe/Stockholm:20260708T130000
DTEND;TZID=Europe/Stockholm:20260708T150000
DTSTAMP:20260419T183307
CREATED:20240925T123310Z
LAST-MODIFIED:20240925T123310Z
UID:10007502-1783515600-1783522800@integrationuppsala.se
SUMMARY:Blankett och rådgivning
DESCRIPTION:Vi erbjuder hjälp med att fylla i blanketter och annan rådgivning. Vi kan hjälpa till med att fylla i blanketter\, guida till annan hjälp\, söka information på internet eller förstå brev från till exempel kommunen\, skolan\, Försäkringskassan och Skatteverket.
URL:https://integrationuppsala.se/aktivitet/blankett-och-radgivning/2026-07-08/
LOCATION:Röda Korset Uppsala\, Trädgårdsgatan 16C\, 753 09 Uppsala\, Sverige
CATEGORIES:Arbete & Studier,Rådgivning
ATTACH;FMTTYPE=image/webp:https://media.integrationuppsala.se/2024/09/laxhjalpen_.webp
ORGANIZER;CN="R%C3%B6da Korset Uppsala":MAILTO:migration.uppsala@redcross.se
END:VEVENT
BEGIN:VEVENT
DTSTART;TZID=Europe/Stockholm:20260715T130000
DTEND;TZID=Europe/Stockholm:20260715T150000
DTSTAMP:20260419T183307
CREATED:20240925T123310Z
LAST-MODIFIED:20240925T123310Z
UID:10007503-1784120400-1784127600@integrationuppsala.se
SUMMARY:Blankett och rådgivning
DESCRIPTION:Vi erbjuder hjälp med att fylla i blanketter och annan rådgivning. Vi kan hjälpa till med att fylla i blanketter\, guida till annan hjälp\, söka information på internet eller förstå brev från till exempel kommunen\, skolan\, Försäkringskassan och Skatteverket.
URL:https://integrationuppsala.se/aktivitet/blankett-och-radgivning/2026-07-15/
LOCATION:Röda Korset Uppsala\, Trädgårdsgatan 16C\, 753 09 Uppsala\, Sverige
CATEGORIES:Arbete & Studier,Rådgivning
ATTACH;FMTTYPE=image/webp:https://media.integrationuppsala.se/2024/09/laxhjalpen_.webp
ORGANIZER;CN="R%C3%B6da Korset Uppsala":MAILTO:migration.uppsala@redcross.se
END:VEVENT
BEGIN:VEVENT
DTSTART;TZID=Europe/Stockholm:20260722T130000
DTEND;TZID=Europe/Stockholm:20260722T150000
DTSTAMP:20260419T183307
CREATED:20240925T123310Z
LAST-MODIFIED:20240925T123310Z
UID:10007504-1784725200-1784732400@integrationuppsala.se
SUMMARY:Blankett och rådgivning
DESCRIPTION:Vi erbjuder hjälp med att fylla i blanketter och annan rådgivning. Vi kan hjälpa till med att fylla i blanketter\, guida till annan hjälp\, söka information på internet eller förstå brev från till exempel kommunen\, skolan\, Försäkringskassan och Skatteverket.
URL:https://integrationuppsala.se/aktivitet/blankett-och-radgivning/2026-07-22/
LOCATION:Röda Korset Uppsala\, Trädgårdsgatan 16C\, 753 09 Uppsala\, Sverige
CATEGORIES:Arbete & Studier,Rådgivning
ATTACH;FMTTYPE=image/webp:https://media.integrationuppsala.se/2024/09/laxhjalpen_.webp
ORGANIZER;CN="R%C3%B6da Korset Uppsala":MAILTO:migration.uppsala@redcross.se
END:VEVENT
BEGIN:VEVENT
DTSTART;TZID=Europe/Stockholm:20260729T130000
DTEND;TZID=Europe/Stockholm:20260729T150000
DTSTAMP:20260419T183307
CREATED:20240925T123310Z
LAST-MODIFIED:20240925T123310Z
UID:10007505-1785330000-1785337200@integrationuppsala.se
SUMMARY:Blankett och rådgivning
DESCRIPTION:Vi erbjuder hjälp med att fylla i blanketter och annan rådgivning. Vi kan hjälpa till med att fylla i blanketter\, guida till annan hjälp\, söka information på internet eller förstå brev från till exempel kommunen\, skolan\, Försäkringskassan och Skatteverket.
URL:https://integrationuppsala.se/aktivitet/blankett-och-radgivning/2026-07-29/
LOCATION:Röda Korset Uppsala\, Trädgårdsgatan 16C\, 753 09 Uppsala\, Sverige
CATEGORIES:Arbete & Studier,Rådgivning
ATTACH;FMTTYPE=image/webp:https://media.integrationuppsala.se/2024/09/laxhjalpen_.webp
ORGANIZER;CN="R%C3%B6da Korset Uppsala":MAILTO:migration.uppsala@redcross.se
END:VEVENT
BEGIN:VEVENT
DTSTART;TZID=Europe/Stockholm:20260805T130000
DTEND;TZID=Europe/Stockholm:20260805T150000
DTSTAMP:20260419T183307
CREATED:20240925T123310Z
LAST-MODIFIED:20240925T123310Z
UID:10007506-1785934800-1785942000@integrationuppsala.se
SUMMARY:Blankett och rådgivning
DESCRIPTION:Vi erbjuder hjälp med att fylla i blanketter och annan rådgivning. Vi kan hjälpa till med att fylla i blanketter\, guida till annan hjälp\, söka information på internet eller förstå brev från till exempel kommunen\, skolan\, Försäkringskassan och Skatteverket.
URL:https://integrationuppsala.se/aktivitet/blankett-och-radgivning/2026-08-05/
LOCATION:Röda Korset Uppsala\, Trädgårdsgatan 16C\, 753 09 Uppsala\, Sverige
CATEGORIES:Arbete & Studier,Rådgivning
ATTACH;FMTTYPE=image/webp:https://media.integrationuppsala.se/2024/09/laxhjalpen_.webp
ORGANIZER;CN="R%C3%B6da Korset Uppsala":MAILTO:migration.uppsala@redcross.se
END:VEVENT
BEGIN:VEVENT
DTSTART;TZID=Europe/Stockholm:20260812T130000
DTEND;TZID=Europe/Stockholm:20260812T150000
DTSTAMP:20260419T183307
CREATED:20240925T123310Z
LAST-MODIFIED:20240925T123310Z
UID:10007507-1786539600-1786546800@integrationuppsala.se
SUMMARY:Blankett och rådgivning
DESCRIPTION:Vi erbjuder hjälp med att fylla i blanketter och annan rådgivning. Vi kan hjälpa till med att fylla i blanketter\, guida till annan hjälp\, söka information på internet eller förstå brev från till exempel kommunen\, skolan\, Försäkringskassan och Skatteverket.
URL:https://integrationuppsala.se/aktivitet/blankett-och-radgivning/2026-08-12/
LOCATION:Röda Korset Uppsala\, Trädgårdsgatan 16C\, 753 09 Uppsala\, Sverige
CATEGORIES:Arbete & Studier,Rådgivning
ATTACH;FMTTYPE=image/webp:https://media.integrationuppsala.se/2024/09/laxhjalpen_.webp
ORGANIZER;CN="R%C3%B6da Korset Uppsala":MAILTO:migration.uppsala@redcross.se
END:VEVENT
BEGIN:VEVENT
DTSTART;TZID=Europe/Stockholm:20260819T130000
DTEND;TZID=Europe/Stockholm:20260819T150000
DTSTAMP:20260419T183307
CREATED:20240925T123310Z
LAST-MODIFIED:20240925T123310Z
UID:10007508-1787144400-1787151600@integrationuppsala.se
SUMMARY:Blankett och rådgivning
DESCRIPTION:Vi erbjuder hjälp med att fylla i blanketter och annan rådgivning. Vi kan hjälpa till med att fylla i blanketter\, guida till annan hjälp\, söka information på internet eller förstå brev från till exempel kommunen\, skolan\, Försäkringskassan och Skatteverket.
URL:https://integrationuppsala.se/aktivitet/blankett-och-radgivning/2026-08-19/
LOCATION:Röda Korset Uppsala\, Trädgårdsgatan 16C\, 753 09 Uppsala\, Sverige
CATEGORIES:Arbete & Studier,Rådgivning
ATTACH;FMTTYPE=image/webp:https://media.integrationuppsala.se/2024/09/laxhjalpen_.webp
ORGANIZER;CN="R%C3%B6da Korset Uppsala":MAILTO:migration.uppsala@redcross.se
END:VEVENT
BEGIN:VEVENT
DTSTART;TZID=Europe/Stockholm:20260826T130000
DTEND;TZID=Europe/Stockholm:20260826T150000
DTSTAMP:20260419T183307
CREATED:20240925T123310Z
LAST-MODIFIED:20240925T123310Z
UID:10007509-1787749200-1787756400@integrationuppsala.se
SUMMARY:Blankett och rådgivning
DESCRIPTION:Vi erbjuder hjälp med att fylla i blanketter och annan rådgivning. Vi kan hjälpa till med att fylla i blanketter\, guida till annan hjälp\, söka information på internet eller förstå brev från till exempel kommunen\, skolan\, Försäkringskassan och Skatteverket.
URL:https://integrationuppsala.se/aktivitet/blankett-och-radgivning/2026-08-26/
LOCATION:Röda Korset Uppsala\, Trädgårdsgatan 16C\, 753 09 Uppsala\, Sverige
CATEGORIES:Arbete & Studier,Rådgivning
ATTACH;FMTTYPE=image/webp:https://media.integrationuppsala.se/2024/09/laxhjalpen_.webp
ORGANIZER;CN="R%C3%B6da Korset Uppsala":MAILTO:migration.uppsala@redcross.se
END:VEVENT
BEGIN:VEVENT
DTSTART;TZID=Europe/Stockholm:20260902T130000
DTEND;TZID=Europe/Stockholm:20260902T150000
DTSTAMP:20260419T183307
CREATED:20240925T123310Z
LAST-MODIFIED:20240925T123310Z
UID:10007510-1788354000-1788361200@integrationuppsala.se
SUMMARY:Blankett och rådgivning
DESCRIPTION:Vi erbjuder hjälp med att fylla i blanketter och annan rådgivning. Vi kan hjälpa till med att fylla i blanketter\, guida till annan hjälp\, söka information på internet eller förstå brev från till exempel kommunen\, skolan\, Försäkringskassan och Skatteverket.
URL:https://integrationuppsala.se/aktivitet/blankett-och-radgivning/2026-09-02/
LOCATION:Röda Korset Uppsala\, Trädgårdsgatan 16C\, 753 09 Uppsala\, Sverige
CATEGORIES:Arbete & Studier,Rådgivning
ATTACH;FMTTYPE=image/webp:https://media.integrationuppsala.se/2024/09/laxhjalpen_.webp
ORGANIZER;CN="R%C3%B6da Korset Uppsala":MAILTO:migration.uppsala@redcross.se
END:VEVENT
BEGIN:VEVENT
DTSTART;TZID=Europe/Stockholm:20260909T130000
DTEND;TZID=Europe/Stockholm:20260909T150000
DTSTAMP:20260419T183307
CREATED:20240925T123310Z
LAST-MODIFIED:20240925T123310Z
UID:10007511-1788958800-1788966000@integrationuppsala.se
SUMMARY:Blankett och rådgivning
DESCRIPTION:Vi erbjuder hjälp med att fylla i blanketter och annan rådgivning. Vi kan hjälpa till med att fylla i blanketter\, guida till annan hjälp\, söka information på internet eller förstå brev från till exempel kommunen\, skolan\, Försäkringskassan och Skatteverket.
URL:https://integrationuppsala.se/aktivitet/blankett-och-radgivning/2026-09-09/
LOCATION:Röda Korset Uppsala\, Trädgårdsgatan 16C\, 753 09 Uppsala\, Sverige
CATEGORIES:Arbete & Studier,Rådgivning
ATTACH;FMTTYPE=image/webp:https://media.integrationuppsala.se/2024/09/laxhjalpen_.webp
ORGANIZER;CN="R%C3%B6da Korset Uppsala":MAILTO:migration.uppsala@redcross.se
END:VEVENT
BEGIN:VEVENT
DTSTART;TZID=Europe/Stockholm:20260916T130000
DTEND;TZID=Europe/Stockholm:20260916T150000
DTSTAMP:20260419T183307
CREATED:20240925T123310Z
LAST-MODIFIED:20240925T123310Z
UID:10007512-1789563600-1789570800@integrationuppsala.se
SUMMARY:Blankett och rådgivning
DESCRIPTION:Vi erbjuder hjälp med att fylla i blanketter och annan rådgivning. Vi kan hjälpa till med att fylla i blanketter\, guida till annan hjälp\, söka information på internet eller förstå brev från till exempel kommunen\, skolan\, Försäkringskassan och Skatteverket.
URL:https://integrationuppsala.se/aktivitet/blankett-och-radgivning/2026-09-16/
LOCATION:Röda Korset Uppsala\, Trädgårdsgatan 16C\, 753 09 Uppsala\, Sverige
CATEGORIES:Arbete & Studier,Rådgivning
ATTACH;FMTTYPE=image/webp:https://media.integrationuppsala.se/2024/09/laxhjalpen_.webp
ORGANIZER;CN="R%C3%B6da Korset Uppsala":MAILTO:migration.uppsala@redcross.se
END:VEVENT
BEGIN:VEVENT
DTSTART;TZID=Europe/Stockholm:20260923T130000
DTEND;TZID=Europe/Stockholm:20260923T150000
DTSTAMP:20260419T183307
CREATED:20240925T123310Z
LAST-MODIFIED:20240925T123310Z
UID:10007513-1790168400-1790175600@integrationuppsala.se
SUMMARY:Blankett och rådgivning
DESCRIPTION:Vi erbjuder hjälp med att fylla i blanketter och annan rådgivning. Vi kan hjälpa till med att fylla i blanketter\, guida till annan hjälp\, söka information på internet eller förstå brev från till exempel kommunen\, skolan\, Försäkringskassan och Skatteverket.
URL:https://integrationuppsala.se/aktivitet/blankett-och-radgivning/2026-09-23/
LOCATION:Röda Korset Uppsala\, Trädgårdsgatan 16C\, 753 09 Uppsala\, Sverige
CATEGORIES:Arbete & Studier,Rådgivning
ATTACH;FMTTYPE=image/webp:https://media.integrationuppsala.se/2024/09/laxhjalpen_.webp
ORGANIZER;CN="R%C3%B6da Korset Uppsala":MAILTO:migration.uppsala@redcross.se
END:VEVENT
BEGIN:VEVENT
DTSTART;TZID=Europe/Stockholm:20260930T130000
DTEND;TZID=Europe/Stockholm:20260930T150000
DTSTAMP:20260419T183307
CREATED:20240925T123310Z
LAST-MODIFIED:20240925T123310Z
UID:10007514-1790773200-1790780400@integrationuppsala.se
SUMMARY:Blankett och rådgivning
DESCRIPTION:Vi erbjuder hjälp med att fylla i blanketter och annan rådgivning. Vi kan hjälpa till med att fylla i blanketter\, guida till annan hjälp\, söka information på internet eller förstå brev från till exempel kommunen\, skolan\, Försäkringskassan och Skatteverket.
URL:https://integrationuppsala.se/aktivitet/blankett-och-radgivning/2026-09-30/
LOCATION:Röda Korset Uppsala\, Trädgårdsgatan 16C\, 753 09 Uppsala\, Sverige
CATEGORIES:Arbete & Studier,Rådgivning
ATTACH;FMTTYPE=image/webp:https://media.integrationuppsala.se/2024/09/laxhjalpen_.webp
ORGANIZER;CN="R%C3%B6da Korset Uppsala":MAILTO:migration.uppsala@redcross.se
END:VEVENT
BEGIN:VEVENT
DTSTART;TZID=Europe/Stockholm:20261007T130000
DTEND;TZID=Europe/Stockholm:20261007T150000
DTSTAMP:20260419T183307
CREATED:20240925T123310Z
LAST-MODIFIED:20240925T123310Z
UID:10007515-1791378000-1791385200@integrationuppsala.se
SUMMARY:Blankett och rådgivning
DESCRIPTION:Vi erbjuder hjälp med att fylla i blanketter och annan rådgivning. Vi kan hjälpa till med att fylla i blanketter\, guida till annan hjälp\, söka information på internet eller förstå brev från till exempel kommunen\, skolan\, Försäkringskassan och Skatteverket.
URL:https://integrationuppsala.se/aktivitet/blankett-och-radgivning/2026-10-07/
LOCATION:Röda Korset Uppsala\, Trädgårdsgatan 16C\, 753 09 Uppsala\, Sverige
CATEGORIES:Arbete & Studier,Rådgivning
ATTACH;FMTTYPE=image/webp:https://media.integrationuppsala.se/2024/09/laxhjalpen_.webp
ORGANIZER;CN="R%C3%B6da Korset Uppsala":MAILTO:migration.uppsala@redcross.se
END:VEVENT
BEGIN:VEVENT
DTSTART;TZID=Europe/Stockholm:20261014T130000
DTEND;TZID=Europe/Stockholm:20261014T150000
DTSTAMP:20260419T183307
CREATED:20240925T123310Z
LAST-MODIFIED:20240925T123310Z
UID:10007516-1791982800-1791990000@integrationuppsala.se
SUMMARY:Blankett och rådgivning
DESCRIPTION:Vi erbjuder hjälp med att fylla i blanketter och annan rådgivning. Vi kan hjälpa till med att fylla i blanketter\, guida till annan hjälp\, söka information på internet eller förstå brev från till exempel kommunen\, skolan\, Försäkringskassan och Skatteverket.
URL:https://integrationuppsala.se/aktivitet/blankett-och-radgivning/2026-10-14/
LOCATION:Röda Korset Uppsala\, Trädgårdsgatan 16C\, 753 09 Uppsala\, Sverige
CATEGORIES:Arbete & Studier,Rådgivning
ATTACH;FMTTYPE=image/webp:https://media.integrationuppsala.se/2024/09/laxhjalpen_.webp
ORGANIZER;CN="R%C3%B6da Korset Uppsala":MAILTO:migration.uppsala@redcross.se
END:VEVENT
BEGIN:VEVENT
DTSTART;TZID=Europe/Stockholm:20261021T130000
DTEND;TZID=Europe/Stockholm:20261021T150000
DTSTAMP:20260419T183307
CREATED:20240925T123310Z
LAST-MODIFIED:20240925T123310Z
UID:10007517-1792587600-1792594800@integrationuppsala.se
SUMMARY:Blankett och rådgivning
DESCRIPTION:Vi erbjuder hjälp med att fylla i blanketter och annan rådgivning. Vi kan hjälpa till med att fylla i blanketter\, guida till annan hjälp\, söka information på internet eller förstå brev från till exempel kommunen\, skolan\, Försäkringskassan och Skatteverket.
URL:https://integrationuppsala.se/aktivitet/blankett-och-radgivning/2026-10-21/
LOCATION:Röda Korset Uppsala\, Trädgårdsgatan 16C\, 753 09 Uppsala\, Sverige
CATEGORIES:Arbete & Studier,Rådgivning
ATTACH;FMTTYPE=image/webp:https://media.integrationuppsala.se/2024/09/laxhjalpen_.webp
ORGANIZER;CN="R%C3%B6da Korset Uppsala":MAILTO:migration.uppsala@redcross.se
END:VEVENT
BEGIN:VEVENT
DTSTART;TZID=Europe/Stockholm:20261028T130000
DTEND;TZID=Europe/Stockholm:20261028T150000
DTSTAMP:20260419T183307
CREATED:20240925T123310Z
LAST-MODIFIED:20240925T123310Z
UID:10007518-1793192400-1793199600@integrationuppsala.se
SUMMARY:Blankett och rådgivning
DESCRIPTION:Vi erbjuder hjälp med att fylla i blanketter och annan rådgivning. Vi kan hjälpa till med att fylla i blanketter\, guida till annan hjälp\, söka information på internet eller förstå brev från till exempel kommunen\, skolan\, Försäkringskassan och Skatteverket.
URL:https://integrationuppsala.se/aktivitet/blankett-och-radgivning/2026-10-28/
LOCATION:Röda Korset Uppsala\, Trädgårdsgatan 16C\, 753 09 Uppsala\, Sverige
CATEGORIES:Arbete & Studier,Rådgivning
ATTACH;FMTTYPE=image/webp:https://media.integrationuppsala.se/2024/09/laxhjalpen_.webp
ORGANIZER;CN="R%C3%B6da Korset Uppsala":MAILTO:migration.uppsala@redcross.se
END:VEVENT
BEGIN:VEVENT
DTSTART;TZID=Europe/Stockholm:20261104T130000
DTEND;TZID=Europe/Stockholm:20261104T150000
DTSTAMP:20260419T183307
CREATED:20240925T123310Z
LAST-MODIFIED:20240925T123310Z
UID:10007519-1793797200-1793804400@integrationuppsala.se
SUMMARY:Blankett och rådgivning
DESCRIPTION:Vi erbjuder hjälp med att fylla i blanketter och annan rådgivning. Vi kan hjälpa till med att fylla i blanketter\, guida till annan hjälp\, söka information på internet eller förstå brev från till exempel kommunen\, skolan\, Försäkringskassan och Skatteverket.
URL:https://integrationuppsala.se/aktivitet/blankett-och-radgivning/2026-11-04/
LOCATION:Röda Korset Uppsala\, Trädgårdsgatan 16C\, 753 09 Uppsala\, Sverige
CATEGORIES:Arbete & Studier,Rådgivning
ATTACH;FMTTYPE=image/webp:https://media.integrationuppsala.se/2024/09/laxhjalpen_.webp
ORGANIZER;CN="R%C3%B6da Korset Uppsala":MAILTO:migration.uppsala@redcross.se
END:VEVENT
BEGIN:VEVENT
DTSTART;TZID=Europe/Stockholm:20261111T130000
DTEND;TZID=Europe/Stockholm:20261111T150000
DTSTAMP:20260419T183307
CREATED:20240925T123310Z
LAST-MODIFIED:20240925T123310Z
UID:10007520-1794402000-1794409200@integrationuppsala.se
SUMMARY:Blankett och rådgivning
DESCRIPTION:Vi erbjuder hjälp med att fylla i blanketter och annan rådgivning. Vi kan hjälpa till med att fylla i blanketter\, guida till annan hjälp\, söka information på internet eller förstå brev från till exempel kommunen\, skolan\, Försäkringskassan och Skatteverket.
URL:https://integrationuppsala.se/aktivitet/blankett-och-radgivning/2026-11-11/
LOCATION:Röda Korset Uppsala\, Trädgårdsgatan 16C\, 753 09 Uppsala\, Sverige
CATEGORIES:Arbete & Studier,Rådgivning
ATTACH;FMTTYPE=image/webp:https://media.integrationuppsala.se/2024/09/laxhjalpen_.webp
ORGANIZER;CN="R%C3%B6da Korset Uppsala":MAILTO:migration.uppsala@redcross.se
END:VEVENT
END:VCALENDAR