BEGIN:VCALENDAR
VERSION:2.0
PRODID:-//Integration Uppsala - ECPv6.15.20//NONSGML v1.0//EN
CALSCALE:GREGORIAN
METHOD:PUBLISH
X-WR-CALNAME:Integration Uppsala
X-ORIGINAL-URL:https://integrationuppsala.se
X-WR-CALDESC:Händelser för Integration Uppsala
REFRESH-INTERVAL;VALUE=DURATION:PT1H
X-Robots-Tag:noindex
X-PUBLISHED-TTL:PT1H
BEGIN:VTIMEZONE
TZID:Europe/Stockholm
BEGIN:DAYLIGHT
TZOFFSETFROM:+0100
TZOFFSETTO:+0200
TZNAME:CEST
DTSTART:20250330T010000
END:DAYLIGHT
BEGIN:STANDARD
TZOFFSETFROM:+0200
TZOFFSETTO:+0100
TZNAME:CET
DTSTART:20251026T010000
END:STANDARD
BEGIN:DAYLIGHT
TZOFFSETFROM:+0100
TZOFFSETTO:+0200
TZNAME:CEST
DTSTART:20260329T010000
END:DAYLIGHT
BEGIN:STANDARD
TZOFFSETFROM:+0200
TZOFFSETTO:+0100
TZNAME:CET
DTSTART:20261025T010000
END:STANDARD
BEGIN:DAYLIGHT
TZOFFSETFROM:+0100
TZOFFSETTO:+0200
TZNAME:CEST
DTSTART:20270328T010000
END:DAYLIGHT
BEGIN:STANDARD
TZOFFSETFROM:+0200
TZOFFSETTO:+0100
TZNAME:CET
DTSTART:20271031T010000
END:STANDARD
END:VTIMEZONE
BEGIN:VEVENT
DTSTART;TZID=Europe/Stockholm:20260429T150000
DTEND;TZID=Europe/Stockholm:20260429T160000
DTSTAMP:20260423T134538
CREATED:20260227T134744Z
LAST-MODIFIED:20260227T134744Z
UID:10020847-1777474800-1777478400@integrationuppsala.se
SUMMARY:Prata med Eva!
DESCRIPTION:Vill du fortsätta att utveckla och stärka ditt svenska språk? SIU anordnar möten för de som har grundläggande kunskaper i svenska. \nEva Hedman har tidigare bland annat varit lektor i sociologi vid Umeå universitet. \nAnmälan görs till: info@siuppsala.se
URL:https://integrationuppsala.se/aktivitet/prata-med-eva/2026-04-29/
LOCATION:Online
CATEGORIES:Språk
ATTACH;FMTTYPE=image/png:https://media.integrationuppsala.se/2025/12/SIU-logga.png
ORGANIZER;CN="Samarbetsorganisationen f%C3%B6r invandrarf%C3%B6reningar i Uppsala (SIU)":MAILTO:info@siuppsala.se
END:VEVENT
BEGIN:VEVENT
DTSTART;TZID=Europe/Stockholm:20260506T150000
DTEND;TZID=Europe/Stockholm:20260506T160000
DTSTAMP:20260423T134538
CREATED:20260227T134744Z
LAST-MODIFIED:20260227T134744Z
UID:10020848-1778079600-1778083200@integrationuppsala.se
SUMMARY:Prata med Eva!
DESCRIPTION:Vill du fortsätta att utveckla och stärka ditt svenska språk? SIU anordnar möten för de som har grundläggande kunskaper i svenska. \nEva Hedman har tidigare bland annat varit lektor i sociologi vid Umeå universitet. \nAnmälan görs till: info@siuppsala.se
URL:https://integrationuppsala.se/aktivitet/prata-med-eva/2026-05-06/
LOCATION:Online
CATEGORIES:Språk
ATTACH;FMTTYPE=image/png:https://media.integrationuppsala.se/2025/12/SIU-logga.png
ORGANIZER;CN="Samarbetsorganisationen f%C3%B6r invandrarf%C3%B6reningar i Uppsala (SIU)":MAILTO:info@siuppsala.se
END:VEVENT
BEGIN:VEVENT
DTSTART;TZID=Europe/Stockholm:20260513T150000
DTEND;TZID=Europe/Stockholm:20260513T160000
DTSTAMP:20260423T134538
CREATED:20260227T134744Z
LAST-MODIFIED:20260227T134744Z
UID:10020849-1778684400-1778688000@integrationuppsala.se
SUMMARY:Prata med Eva!
DESCRIPTION:Vill du fortsätta att utveckla och stärka ditt svenska språk? SIU anordnar möten för de som har grundläggande kunskaper i svenska. \nEva Hedman har tidigare bland annat varit lektor i sociologi vid Umeå universitet. \nAnmälan görs till: info@siuppsala.se
URL:https://integrationuppsala.se/aktivitet/prata-med-eva/2026-05-13/
LOCATION:Online
CATEGORIES:Språk
ATTACH;FMTTYPE=image/png:https://media.integrationuppsala.se/2025/12/SIU-logga.png
ORGANIZER;CN="Samarbetsorganisationen f%C3%B6r invandrarf%C3%B6reningar i Uppsala (SIU)":MAILTO:info@siuppsala.se
END:VEVENT
BEGIN:VEVENT
DTSTART;TZID=Europe/Stockholm:20260520T150000
DTEND;TZID=Europe/Stockholm:20260520T160000
DTSTAMP:20260423T134538
CREATED:20260227T134744Z
LAST-MODIFIED:20260227T134744Z
UID:10020850-1779289200-1779292800@integrationuppsala.se
SUMMARY:Prata med Eva!
DESCRIPTION:Vill du fortsätta att utveckla och stärka ditt svenska språk? SIU anordnar möten för de som har grundläggande kunskaper i svenska. \nEva Hedman har tidigare bland annat varit lektor i sociologi vid Umeå universitet. \nAnmälan görs till: info@siuppsala.se
URL:https://integrationuppsala.se/aktivitet/prata-med-eva/2026-05-20/
LOCATION:Online
CATEGORIES:Språk
ATTACH;FMTTYPE=image/png:https://media.integrationuppsala.se/2025/12/SIU-logga.png
ORGANIZER;CN="Samarbetsorganisationen f%C3%B6r invandrarf%C3%B6reningar i Uppsala (SIU)":MAILTO:info@siuppsala.se
END:VEVENT
BEGIN:VEVENT
DTSTART;TZID=Europe/Stockholm:20260527T150000
DTEND;TZID=Europe/Stockholm:20260527T160000
DTSTAMP:20260423T134538
CREATED:20260227T134744Z
LAST-MODIFIED:20260227T134744Z
UID:10020851-1779894000-1779897600@integrationuppsala.se
SUMMARY:Prata med Eva!
DESCRIPTION:Vill du fortsätta att utveckla och stärka ditt svenska språk? SIU anordnar möten för de som har grundläggande kunskaper i svenska. \nEva Hedman har tidigare bland annat varit lektor i sociologi vid Umeå universitet. \nAnmälan görs till: info@siuppsala.se
URL:https://integrationuppsala.se/aktivitet/prata-med-eva/2026-05-27/
LOCATION:Online
CATEGORIES:Språk
ATTACH;FMTTYPE=image/png:https://media.integrationuppsala.se/2025/12/SIU-logga.png
ORGANIZER;CN="Samarbetsorganisationen f%C3%B6r invandrarf%C3%B6reningar i Uppsala (SIU)":MAILTO:info@siuppsala.se
END:VEVENT
BEGIN:VEVENT
DTSTART;TZID=Europe/Stockholm:20260603T150000
DTEND;TZID=Europe/Stockholm:20260603T160000
DTSTAMP:20260423T134538
CREATED:20260227T134744Z
LAST-MODIFIED:20260227T134744Z
UID:10020852-1780498800-1780502400@integrationuppsala.se
SUMMARY:Prata med Eva!
DESCRIPTION:Vill du fortsätta att utveckla och stärka ditt svenska språk? SIU anordnar möten för de som har grundläggande kunskaper i svenska. \nEva Hedman har tidigare bland annat varit lektor i sociologi vid Umeå universitet. \nAnmälan görs till: info@siuppsala.se
URL:https://integrationuppsala.se/aktivitet/prata-med-eva/2026-06-03/
LOCATION:Online
CATEGORIES:Språk
ATTACH;FMTTYPE=image/png:https://media.integrationuppsala.se/2025/12/SIU-logga.png
ORGANIZER;CN="Samarbetsorganisationen f%C3%B6r invandrarf%C3%B6reningar i Uppsala (SIU)":MAILTO:info@siuppsala.se
END:VEVENT
BEGIN:VEVENT
DTSTART;TZID=Europe/Stockholm:20260610T150000
DTEND;TZID=Europe/Stockholm:20260610T160000
DTSTAMP:20260423T134538
CREATED:20260227T134744Z
LAST-MODIFIED:20260227T134744Z
UID:10020853-1781103600-1781107200@integrationuppsala.se
SUMMARY:Prata med Eva!
DESCRIPTION:Vill du fortsätta att utveckla och stärka ditt svenska språk? SIU anordnar möten för de som har grundläggande kunskaper i svenska. \nEva Hedman har tidigare bland annat varit lektor i sociologi vid Umeå universitet. \nAnmälan görs till: info@siuppsala.se
URL:https://integrationuppsala.se/aktivitet/prata-med-eva/2026-06-10/
LOCATION:Online
CATEGORIES:Språk
ATTACH;FMTTYPE=image/png:https://media.integrationuppsala.se/2025/12/SIU-logga.png
ORGANIZER;CN="Samarbetsorganisationen f%C3%B6r invandrarf%C3%B6reningar i Uppsala (SIU)":MAILTO:info@siuppsala.se
END:VEVENT
BEGIN:VEVENT
DTSTART;TZID=Europe/Stockholm:20260617T150000
DTEND;TZID=Europe/Stockholm:20260617T160000
DTSTAMP:20260423T134538
CREATED:20260227T134744Z
LAST-MODIFIED:20260227T134744Z
UID:10020854-1781708400-1781712000@integrationuppsala.se
SUMMARY:Prata med Eva!
DESCRIPTION:Vill du fortsätta att utveckla och stärka ditt svenska språk? SIU anordnar möten för de som har grundläggande kunskaper i svenska. \nEva Hedman har tidigare bland annat varit lektor i sociologi vid Umeå universitet. \nAnmälan görs till: info@siuppsala.se
URL:https://integrationuppsala.se/aktivitet/prata-med-eva/2026-06-17/
LOCATION:Online
CATEGORIES:Språk
ATTACH;FMTTYPE=image/png:https://media.integrationuppsala.se/2025/12/SIU-logga.png
ORGANIZER;CN="Samarbetsorganisationen f%C3%B6r invandrarf%C3%B6reningar i Uppsala (SIU)":MAILTO:info@siuppsala.se
END:VEVENT
END:VCALENDAR