BEGIN:VCALENDAR
VERSION:2.0
PRODID:-//Integration Uppsala - ECPv6.15.20//NONSGML v1.0//EN
CALSCALE:GREGORIAN
METHOD:PUBLISH
X-WR-CALNAME:Integration Uppsala
X-ORIGINAL-URL:https://integrationuppsala.se
X-WR-CALDESC:Händelser för Integration Uppsala
REFRESH-INTERVAL;VALUE=DURATION:PT1H
X-Robots-Tag:noindex
X-PUBLISHED-TTL:PT1H
BEGIN:VTIMEZONE
TZID:Europe/Stockholm
BEGIN:DAYLIGHT
TZOFFSETFROM:+0100
TZOFFSETTO:+0200
TZNAME:CEST
DTSTART:20250330T010000
END:DAYLIGHT
BEGIN:STANDARD
TZOFFSETFROM:+0200
TZOFFSETTO:+0100
TZNAME:CET
DTSTART:20251026T010000
END:STANDARD
BEGIN:DAYLIGHT
TZOFFSETFROM:+0100
TZOFFSETTO:+0200
TZNAME:CEST
DTSTART:20260329T010000
END:DAYLIGHT
BEGIN:STANDARD
TZOFFSETFROM:+0200
TZOFFSETTO:+0100
TZNAME:CET
DTSTART:20261025T010000
END:STANDARD
BEGIN:DAYLIGHT
TZOFFSETFROM:+0100
TZOFFSETTO:+0200
TZNAME:CEST
DTSTART:20270328T010000
END:DAYLIGHT
BEGIN:STANDARD
TZOFFSETFROM:+0200
TZOFFSETTO:+0100
TZNAME:CET
DTSTART:20271031T010000
END:STANDARD
END:VTIMEZONE
BEGIN:VEVENT
DTSTART;TZID=Europe/Stockholm:20260420T100000
DTEND;TZID=Europe/Stockholm:20260420T150000
DTSTAMP:20260419T195109
CREATED:20240925T121213Z
LAST-MODIFIED:20250114T120822Z
UID:10006557-1776679200-1776697200@integrationuppsala.se
SUMMARY:Språkträning och läxhjälp på Röda Korset
DESCRIPTION:Röda Korsets verksamhet Träffpunkten erbjuder stöd för dig som vill träna på det svenska språket eller behöver hjälp med läxorna. Stödet passar dig som till exempel studerar på SFI\, komvux\, gymnasiet eller grundskola\, men det går precis lika bra att komma hit utan läxor bara för att träna på svenska. \nTräffpunkten är en plats öppen för alla. Här möts besökare\, frivilliga och andra medarbetare under ett och samma tak. Hit kan du komma för att samtala\, språkträna\, läsa tidningen och njuta av gemenskapen. På Träffpunkten kan du också ta del av andra olika sociala och kulturella aktiviteter.
URL:https://integrationuppsala.se/aktivitet/spraktraning-och-laxhjalp-pa-roda-korset-2/2026-04-20/
LOCATION:Röda Korset Uppsala\, Trädgårdsgatan 16C\, 753 09 Uppsala\, Sverige
CATEGORIES:Arbete & Studier,Språk
ATTACH;FMTTYPE=image/webp:https://media.integrationuppsala.se/2024/09/spraktraningjpg_.webp
ORGANIZER;CN="R%C3%B6da Korset Uppsala":MAILTO:migration.uppsala@redcross.se
END:VEVENT
BEGIN:VEVENT
DTSTART;TZID=Europe/Stockholm:20260421T090000
DTEND;TZID=Europe/Stockholm:20260421T120000
DTSTAMP:20260419T195109
CREATED:20260226T101537Z
LAST-MODIFIED:20260226T101537Z
UID:10020794-1776762000-1776772800@integrationuppsala.se
SUMMARY:Jollen – NybyVisions öppna förskola
DESCRIPTION:Jollen är NybyVisions öppna förskola\, en mångkulturell mötesplats för vuxna med barn i åldrarna 0-6 år. Öppet fyra dagar per vecka. \nDu behöver inte anmäla dig och kan komma och gå när du vill under öppettiderna. \nDet kostar ingenting att vara med. \nI Jollen kan barnen leka och träffa andra barn. Det är också en mötesplats där man som vuxen kan få nya vänner samt få råd och stöd i olika frågor. \nVarje vecka finns det planerade skapande- och rörelseaktiviteter samt möjlighet att träna svenska språket och få samhällsinformation. \nVarje dag finns det mellanmål som är gratis för barn och andra som behöver. Den som har möjlighet betalar ett självkostnadspris. Micro finns om man vill värma egen mat till sitt barn. \nFacebook: ”Jollen – NybyVisions öppna förskola”
URL:https://integrationuppsala.se/aktivitet/jollen-nybyvisions-oppna-forskola/2026-04-21/
LOCATION:Nyby vision\, Odensgatan 8\, 75315 Uppsala\, Odensgatan 8\, Uppsala\, 75315\, Sverige
CATEGORIES:Barn & Ungdomar,Rådgivning,Skapande verksamhet,Socialt,Språk
ATTACH;FMTTYPE=image/jpeg:https://media.integrationuppsala.se/2025/02/skylt-med-babblarna.jpg
ORGANIZER;CN="NybyVision":MAILTO:info@nybyvision.se
END:VEVENT
BEGIN:VEVENT
DTSTART;TZID=Europe/Stockholm:20260421T100000
DTEND;TZID=Europe/Stockholm:20260421T150000
DTSTAMP:20260419T195109
CREATED:20240925T121213Z
LAST-MODIFIED:20250114T120822Z
UID:10006558-1776765600-1776783600@integrationuppsala.se
SUMMARY:Språkträning och läxhjälp på Röda Korset
DESCRIPTION:Röda Korsets verksamhet Träffpunkten erbjuder stöd för dig som vill träna på det svenska språket eller behöver hjälp med läxorna. Stödet passar dig som till exempel studerar på SFI\, komvux\, gymnasiet eller grundskola\, men det går precis lika bra att komma hit utan läxor bara för att träna på svenska. \nTräffpunkten är en plats öppen för alla. Här möts besökare\, frivilliga och andra medarbetare under ett och samma tak. Hit kan du komma för att samtala\, språkträna\, läsa tidningen och njuta av gemenskapen. På Träffpunkten kan du också ta del av andra olika sociala och kulturella aktiviteter.
URL:https://integrationuppsala.se/aktivitet/spraktraning-och-laxhjalp-pa-roda-korset-2/2026-04-21/
LOCATION:Röda Korset Uppsala\, Trädgårdsgatan 16C\, 753 09 Uppsala\, Sverige
CATEGORIES:Arbete & Studier,Språk
ATTACH;FMTTYPE=image/webp:https://media.integrationuppsala.se/2024/09/spraktraningjpg_.webp
ORGANIZER;CN="R%C3%B6da Korset Uppsala":MAILTO:migration.uppsala@redcross.se
END:VEVENT
BEGIN:VEVENT
DTSTART;TZID=Europe/Stockholm:20260422T090000
DTEND;TZID=Europe/Stockholm:20260422T120000
DTSTAMP:20260419T195109
CREATED:20260226T101537Z
LAST-MODIFIED:20260226T101537Z
UID:10020795-1776848400-1776859200@integrationuppsala.se
SUMMARY:Jollen – NybyVisions öppna förskola
DESCRIPTION:Jollen är NybyVisions öppna förskola\, en mångkulturell mötesplats för vuxna med barn i åldrarna 0-6 år. Öppet fyra dagar per vecka. \nDu behöver inte anmäla dig och kan komma och gå när du vill under öppettiderna. \nDet kostar ingenting att vara med. \nI Jollen kan barnen leka och träffa andra barn. Det är också en mötesplats där man som vuxen kan få nya vänner samt få råd och stöd i olika frågor. \nVarje vecka finns det planerade skapande- och rörelseaktiviteter samt möjlighet att träna svenska språket och få samhällsinformation. \nVarje dag finns det mellanmål som är gratis för barn och andra som behöver. Den som har möjlighet betalar ett självkostnadspris. Micro finns om man vill värma egen mat till sitt barn. \nFacebook: ”Jollen – NybyVisions öppna förskola”
URL:https://integrationuppsala.se/aktivitet/jollen-nybyvisions-oppna-forskola/2026-04-22/
LOCATION:Nyby vision\, Odensgatan 8\, 75315 Uppsala\, Odensgatan 8\, Uppsala\, 75315\, Sverige
CATEGORIES:Barn & Ungdomar,Rådgivning,Skapande verksamhet,Socialt,Språk
ATTACH;FMTTYPE=image/jpeg:https://media.integrationuppsala.se/2025/02/skylt-med-babblarna.jpg
ORGANIZER;CN="NybyVision":MAILTO:info@nybyvision.se
END:VEVENT
BEGIN:VEVENT
DTSTART;TZID=Europe/Stockholm:20260422T100000
DTEND;TZID=Europe/Stockholm:20260422T150000
DTSTAMP:20260419T195109
CREATED:20240925T121213Z
LAST-MODIFIED:20250114T120822Z
UID:10006559-1776852000-1776870000@integrationuppsala.se
SUMMARY:Språkträning och läxhjälp på Röda Korset
DESCRIPTION:Röda Korsets verksamhet Träffpunkten erbjuder stöd för dig som vill träna på det svenska språket eller behöver hjälp med läxorna. Stödet passar dig som till exempel studerar på SFI\, komvux\, gymnasiet eller grundskola\, men det går precis lika bra att komma hit utan läxor bara för att träna på svenska. \nTräffpunkten är en plats öppen för alla. Här möts besökare\, frivilliga och andra medarbetare under ett och samma tak. Hit kan du komma för att samtala\, språkträna\, läsa tidningen och njuta av gemenskapen. På Träffpunkten kan du också ta del av andra olika sociala och kulturella aktiviteter.
URL:https://integrationuppsala.se/aktivitet/spraktraning-och-laxhjalp-pa-roda-korset-2/2026-04-22/
LOCATION:Röda Korset Uppsala\, Trädgårdsgatan 16C\, 753 09 Uppsala\, Sverige
CATEGORIES:Arbete & Studier,Språk
ATTACH;FMTTYPE=image/webp:https://media.integrationuppsala.se/2024/09/spraktraningjpg_.webp
ORGANIZER;CN="R%C3%B6da Korset Uppsala":MAILTO:migration.uppsala@redcross.se
END:VEVENT
BEGIN:VEVENT
DTSTART;TZID=Europe/Stockholm:20260422T150000
DTEND;TZID=Europe/Stockholm:20260422T160000
DTSTAMP:20260419T195109
CREATED:20260227T134744Z
LAST-MODIFIED:20260227T134744Z
UID:10020846-1776870000-1776873600@integrationuppsala.se
SUMMARY:Prata med Eva!
DESCRIPTION:Vill du fortsätta att utveckla och stärka ditt svenska språk? SIU anordnar möten för de som har grundläggande kunskaper i svenska. \nEva Hedman har tidigare bland annat varit lektor i sociologi vid Umeå universitet. \nAnmälan görs till: info@siuppsala.se
URL:https://integrationuppsala.se/aktivitet/prata-med-eva/2026-04-22/
LOCATION:Online
CATEGORIES:Språk
ATTACH;FMTTYPE=image/png:https://media.integrationuppsala.se/2025/12/SIU-logga.png
ORGANIZER;CN="Samarbetsorganisationen f%C3%B6r invandrarf%C3%B6reningar i Uppsala (SIU)":MAILTO:info@siuppsala.se
END:VEVENT
BEGIN:VEVENT
DTSTART;TZID=Europe/Stockholm:20260422T160000
DTEND;TZID=Europe/Stockholm:20260422T173000
DTSTAMP:20260419T195109
CREATED:20251203T135335Z
LAST-MODIFIED:20251203T135335Z
UID:10020364-1776873600-1776879000@integrationuppsala.se
SUMMARY:Kurs i engelska
DESCRIPTION:Vill du fortsätta att utveckla och stärka dina engelskkunskaper? SIU anordnar flera olika kurser i engelska. Varmt välkommen! \nAnmälan görs till info@siuppsala.se
URL:https://integrationuppsala.se/aktivitet/kurs-i-engelska/2026-04-22/
LOCATION:Gottsunda Centrum\, Valthornsvägen 7\, Uppsala\, 75650
CATEGORIES:Språk
ATTACH;FMTTYPE=image/png:https://media.integrationuppsala.se/2025/12/SIU-logga.png
ORGANIZER;CN="Samarbetsorganisationen f%C3%B6r invandrarf%C3%B6reningar i Uppsala (SIU)":MAILTO:info@siuppsala.se
END:VEVENT
BEGIN:VEVENT
DTSTART;TZID=Europe/Stockholm:20260423T100000
DTEND;TZID=Europe/Stockholm:20260423T150000
DTSTAMP:20260419T195109
CREATED:20240925T121213Z
LAST-MODIFIED:20250114T120822Z
UID:10006560-1776938400-1776956400@integrationuppsala.se
SUMMARY:Språkträning och läxhjälp på Röda Korset
DESCRIPTION:Röda Korsets verksamhet Träffpunkten erbjuder stöd för dig som vill träna på det svenska språket eller behöver hjälp med läxorna. Stödet passar dig som till exempel studerar på SFI\, komvux\, gymnasiet eller grundskola\, men det går precis lika bra att komma hit utan läxor bara för att träna på svenska. \nTräffpunkten är en plats öppen för alla. Här möts besökare\, frivilliga och andra medarbetare under ett och samma tak. Hit kan du komma för att samtala\, språkträna\, läsa tidningen och njuta av gemenskapen. På Träffpunkten kan du också ta del av andra olika sociala och kulturella aktiviteter.
URL:https://integrationuppsala.se/aktivitet/spraktraning-och-laxhjalp-pa-roda-korset-2/2026-04-23/
LOCATION:Röda Korset Uppsala\, Trädgårdsgatan 16C\, 753 09 Uppsala\, Sverige
CATEGORIES:Arbete & Studier,Språk
ATTACH;FMTTYPE=image/webp:https://media.integrationuppsala.se/2024/09/spraktraningjpg_.webp
ORGANIZER;CN="R%C3%B6da Korset Uppsala":MAILTO:migration.uppsala@redcross.se
END:VEVENT
BEGIN:VEVENT
DTSTART;TZID=Europe/Stockholm:20260423T110000
DTEND;TZID=Europe/Stockholm:20260423T140000
DTSTAMP:20260419T195109
CREATED:20260130T102215Z
LAST-MODIFIED:20260130T103508Z
UID:10020722-1776942000-1776952800@integrationuppsala.se
SUMMARY:Kurs i engelska (digital)
DESCRIPTION:Vill du fortsätta att utveckla och stärka dina engelskkunskaper? SIU anordnar flera olika kurser i engelska på olika nivåer.  \nDessa digitala kurser finns på två nivåer: en för dig som är nybörjare i engelska\, och en för dig som redan har en del engelskkunskaper. Varmt välkommen! \nAnmälan görs till info@siuppsala.se
URL:https://integrationuppsala.se/aktivitet/kurs-i-engelska-digital/2026-04-23/
LOCATION:Online
CATEGORIES:Språk
ATTACH;FMTTYPE=image/png:https://media.integrationuppsala.se/2025/12/SIU-logga.png
ORGANIZER;CN="Samarbetsorganisationen f%C3%B6r invandrarf%C3%B6reningar i Uppsala (SIU)":MAILTO:info@siuppsala.se
END:VEVENT
BEGIN:VEVENT
DTSTART;TZID=Europe/Stockholm:20260423T123000
DTEND;TZID=Europe/Stockholm:20260423T153000
DTSTAMP:20260419T195109
CREATED:20260226T102526Z
LAST-MODIFIED:20260226T102526Z
UID:10020829-1776947400-1776958200@integrationuppsala.se
SUMMARY:Jollen – NybyVisions öppna förskola
DESCRIPTION:Jollen är NybyVisions öppna förskola\, en mångkulturell mötesplats för vuxna med barn i åldrarna 0-6 år. Öppet fyra dagar per vecka. \nDu behöver inte anmäla dig och kan komma och gå när du vill under öppettiderna. \nDet kostar ingenting att vara med. \nI Jollen kan barnen leka och träffa andra barn. Det är också en mötesplats där man som vuxen kan få nya vänner samt få råd och stöd i olika frågor. \nVarje vecka finns det planerade skapande- och rörelseaktiviteter samt möjlighet att träna svenska språket och få samhällsinformation. \nVarje dag finns det mellanmål som är gratis för barn och andra som behöver. Den som har möjlighet betalar ett självkostnadspris. Micro finns om man vill värma egen mat till sitt barn. \nFacebook: ”Jollen – NybyVisions öppna förskola”
URL:https://integrationuppsala.se/aktivitet/jollen-nybyvisions-oppna-forskola-2/2026-04-23/
LOCATION:Nyby vision\, Odensgatan 8\, 75315 Uppsala\, Odensgatan 8\, Uppsala\, 75315\, Sverige
CATEGORIES:Barn & Ungdomar,Rådgivning,Skapande verksamhet,Socialt,Språk
ATTACH;FMTTYPE=image/jpeg:https://media.integrationuppsala.se/2025/02/skylt-med-babblarna.jpg
ORGANIZER;CN="NybyVision":MAILTO:info@nybyvision.se
END:VEVENT
BEGIN:VEVENT
DTSTART;TZID=Europe/Stockholm:20260424T090000
DTEND;TZID=Europe/Stockholm:20260424T120000
DTSTAMP:20260419T195109
CREATED:20260226T101537Z
LAST-MODIFIED:20260226T101537Z
UID:10020796-1777021200-1777032000@integrationuppsala.se
SUMMARY:Jollen – NybyVisions öppna förskola
DESCRIPTION:Jollen är NybyVisions öppna förskola\, en mångkulturell mötesplats för vuxna med barn i åldrarna 0-6 år. Öppet fyra dagar per vecka. \nDu behöver inte anmäla dig och kan komma och gå när du vill under öppettiderna. \nDet kostar ingenting att vara med. \nI Jollen kan barnen leka och träffa andra barn. Det är också en mötesplats där man som vuxen kan få nya vänner samt få råd och stöd i olika frågor. \nVarje vecka finns det planerade skapande- och rörelseaktiviteter samt möjlighet att träna svenska språket och få samhällsinformation. \nVarje dag finns det mellanmål som är gratis för barn och andra som behöver. Den som har möjlighet betalar ett självkostnadspris. Micro finns om man vill värma egen mat till sitt barn. \nFacebook: ”Jollen – NybyVisions öppna förskola”
URL:https://integrationuppsala.se/aktivitet/jollen-nybyvisions-oppna-forskola/2026-04-24/
LOCATION:Nyby vision\, Odensgatan 8\, 75315 Uppsala\, Odensgatan 8\, Uppsala\, 75315\, Sverige
CATEGORIES:Barn & Ungdomar,Rådgivning,Skapande verksamhet,Socialt,Språk
ATTACH;FMTTYPE=image/jpeg:https://media.integrationuppsala.se/2025/02/skylt-med-babblarna.jpg
ORGANIZER;CN="NybyVision":MAILTO:info@nybyvision.se
END:VEVENT
BEGIN:VEVENT
DTSTART;TZID=Europe/Stockholm:20260424T100000
DTEND;TZID=Europe/Stockholm:20260424T150000
DTSTAMP:20260419T195109
CREATED:20240925T121213Z
LAST-MODIFIED:20250114T120822Z
UID:10006561-1777024800-1777042800@integrationuppsala.se
SUMMARY:Språkträning och läxhjälp på Röda Korset
DESCRIPTION:Röda Korsets verksamhet Träffpunkten erbjuder stöd för dig som vill träna på det svenska språket eller behöver hjälp med läxorna. Stödet passar dig som till exempel studerar på SFI\, komvux\, gymnasiet eller grundskola\, men det går precis lika bra att komma hit utan läxor bara för att träna på svenska. \nTräffpunkten är en plats öppen för alla. Här möts besökare\, frivilliga och andra medarbetare under ett och samma tak. Hit kan du komma för att samtala\, språkträna\, läsa tidningen och njuta av gemenskapen. På Träffpunkten kan du också ta del av andra olika sociala och kulturella aktiviteter.
URL:https://integrationuppsala.se/aktivitet/spraktraning-och-laxhjalp-pa-roda-korset-2/2026-04-24/
LOCATION:Röda Korset Uppsala\, Trädgårdsgatan 16C\, 753 09 Uppsala\, Sverige
CATEGORIES:Arbete & Studier,Språk
ATTACH;FMTTYPE=image/webp:https://media.integrationuppsala.se/2024/09/spraktraningjpg_.webp
ORGANIZER;CN="R%C3%B6da Korset Uppsala":MAILTO:migration.uppsala@redcross.se
END:VEVENT
BEGIN:VEVENT
DTSTART;TZID=Europe/Stockholm:20260424T160000
DTEND;TZID=Europe/Stockholm:20260424T170000
DTSTAMP:20260419T195109
CREATED:20260305T103843Z
LAST-MODIFIED:20260305T103843Z
UID:10020875-1777046400-1777050000@integrationuppsala.se
SUMMARY:Kurs i engelska
DESCRIPTION:Vill du fortsätta att utveckla och stärka ditt engelska språk? SIU anordnar flera engelskakurser under vårterminen. Anmälan görs till info@siuppsala.se.
URL:https://integrationuppsala.se/aktivitet/kurs-i-engelska-2/2026-04-24/
LOCATION:SIU\, Skolgatan 18\, Uppsala\, 75332
CATEGORIES:Språk
ATTACH;FMTTYPE=image/png:https://media.integrationuppsala.se/2025/12/SIU-logga.png
ORGANIZER;CN="Samarbetsorganisationen f%C3%B6r invandrarf%C3%B6reningar i Uppsala (SIU)":MAILTO:info@siuppsala.se
END:VEVENT
BEGIN:VEVENT
DTSTART;TZID=Europe/Stockholm:20260427T100000
DTEND;TZID=Europe/Stockholm:20260427T150000
DTSTAMP:20260419T195109
CREATED:20240925T121213Z
LAST-MODIFIED:20250114T120822Z
UID:10006562-1777284000-1777302000@integrationuppsala.se
SUMMARY:Språkträning och läxhjälp på Röda Korset
DESCRIPTION:Röda Korsets verksamhet Träffpunkten erbjuder stöd för dig som vill träna på det svenska språket eller behöver hjälp med läxorna. Stödet passar dig som till exempel studerar på SFI\, komvux\, gymnasiet eller grundskola\, men det går precis lika bra att komma hit utan läxor bara för att träna på svenska. \nTräffpunkten är en plats öppen för alla. Här möts besökare\, frivilliga och andra medarbetare under ett och samma tak. Hit kan du komma för att samtala\, språkträna\, läsa tidningen och njuta av gemenskapen. På Träffpunkten kan du också ta del av andra olika sociala och kulturella aktiviteter.
URL:https://integrationuppsala.se/aktivitet/spraktraning-och-laxhjalp-pa-roda-korset-2/2026-04-27/
LOCATION:Röda Korset Uppsala\, Trädgårdsgatan 16C\, 753 09 Uppsala\, Sverige
CATEGORIES:Arbete & Studier,Språk
ATTACH;FMTTYPE=image/webp:https://media.integrationuppsala.se/2024/09/spraktraningjpg_.webp
ORGANIZER;CN="R%C3%B6da Korset Uppsala":MAILTO:migration.uppsala@redcross.se
END:VEVENT
BEGIN:VEVENT
DTSTART;TZID=Europe/Stockholm:20260428T090000
DTEND;TZID=Europe/Stockholm:20260428T120000
DTSTAMP:20260419T195109
CREATED:20260226T101537Z
LAST-MODIFIED:20260226T101537Z
UID:10020797-1777366800-1777377600@integrationuppsala.se
SUMMARY:Jollen – NybyVisions öppna förskola
DESCRIPTION:Jollen är NybyVisions öppna förskola\, en mångkulturell mötesplats för vuxna med barn i åldrarna 0-6 år. Öppet fyra dagar per vecka. \nDu behöver inte anmäla dig och kan komma och gå när du vill under öppettiderna. \nDet kostar ingenting att vara med. \nI Jollen kan barnen leka och träffa andra barn. Det är också en mötesplats där man som vuxen kan få nya vänner samt få råd och stöd i olika frågor. \nVarje vecka finns det planerade skapande- och rörelseaktiviteter samt möjlighet att träna svenska språket och få samhällsinformation. \nVarje dag finns det mellanmål som är gratis för barn och andra som behöver. Den som har möjlighet betalar ett självkostnadspris. Micro finns om man vill värma egen mat till sitt barn. \nFacebook: ”Jollen – NybyVisions öppna förskola”
URL:https://integrationuppsala.se/aktivitet/jollen-nybyvisions-oppna-forskola/2026-04-28/
LOCATION:Nyby vision\, Odensgatan 8\, 75315 Uppsala\, Odensgatan 8\, Uppsala\, 75315\, Sverige
CATEGORIES:Barn & Ungdomar,Rådgivning,Skapande verksamhet,Socialt,Språk
ATTACH;FMTTYPE=image/jpeg:https://media.integrationuppsala.se/2025/02/skylt-med-babblarna.jpg
ORGANIZER;CN="NybyVision":MAILTO:info@nybyvision.se
END:VEVENT
BEGIN:VEVENT
DTSTART;TZID=Europe/Stockholm:20260428T100000
DTEND;TZID=Europe/Stockholm:20260428T150000
DTSTAMP:20260419T195109
CREATED:20240925T121213Z
LAST-MODIFIED:20250114T120822Z
UID:10006563-1777370400-1777388400@integrationuppsala.se
SUMMARY:Språkträning och läxhjälp på Röda Korset
DESCRIPTION:Röda Korsets verksamhet Träffpunkten erbjuder stöd för dig som vill träna på det svenska språket eller behöver hjälp med läxorna. Stödet passar dig som till exempel studerar på SFI\, komvux\, gymnasiet eller grundskola\, men det går precis lika bra att komma hit utan läxor bara för att träna på svenska. \nTräffpunkten är en plats öppen för alla. Här möts besökare\, frivilliga och andra medarbetare under ett och samma tak. Hit kan du komma för att samtala\, språkträna\, läsa tidningen och njuta av gemenskapen. På Träffpunkten kan du också ta del av andra olika sociala och kulturella aktiviteter.
URL:https://integrationuppsala.se/aktivitet/spraktraning-och-laxhjalp-pa-roda-korset-2/2026-04-28/
LOCATION:Röda Korset Uppsala\, Trädgårdsgatan 16C\, 753 09 Uppsala\, Sverige
CATEGORIES:Arbete & Studier,Språk
ATTACH;FMTTYPE=image/webp:https://media.integrationuppsala.se/2024/09/spraktraningjpg_.webp
ORGANIZER;CN="R%C3%B6da Korset Uppsala":MAILTO:migration.uppsala@redcross.se
END:VEVENT
BEGIN:VEVENT
DTSTART;TZID=Europe/Stockholm:20260429T090000
DTEND;TZID=Europe/Stockholm:20260429T120000
DTSTAMP:20260419T195109
CREATED:20260226T101537Z
LAST-MODIFIED:20260226T101537Z
UID:10020798-1777453200-1777464000@integrationuppsala.se
SUMMARY:Jollen – NybyVisions öppna förskola
DESCRIPTION:Jollen är NybyVisions öppna förskola\, en mångkulturell mötesplats för vuxna med barn i åldrarna 0-6 år. Öppet fyra dagar per vecka. \nDu behöver inte anmäla dig och kan komma och gå när du vill under öppettiderna. \nDet kostar ingenting att vara med. \nI Jollen kan barnen leka och träffa andra barn. Det är också en mötesplats där man som vuxen kan få nya vänner samt få råd och stöd i olika frågor. \nVarje vecka finns det planerade skapande- och rörelseaktiviteter samt möjlighet att träna svenska språket och få samhällsinformation. \nVarje dag finns det mellanmål som är gratis för barn och andra som behöver. Den som har möjlighet betalar ett självkostnadspris. Micro finns om man vill värma egen mat till sitt barn. \nFacebook: ”Jollen – NybyVisions öppna förskola”
URL:https://integrationuppsala.se/aktivitet/jollen-nybyvisions-oppna-forskola/2026-04-29/
LOCATION:Nyby vision\, Odensgatan 8\, 75315 Uppsala\, Odensgatan 8\, Uppsala\, 75315\, Sverige
CATEGORIES:Barn & Ungdomar,Rådgivning,Skapande verksamhet,Socialt,Språk
ATTACH;FMTTYPE=image/jpeg:https://media.integrationuppsala.se/2025/02/skylt-med-babblarna.jpg
ORGANIZER;CN="NybyVision":MAILTO:info@nybyvision.se
END:VEVENT
BEGIN:VEVENT
DTSTART;TZID=Europe/Stockholm:20260429T100000
DTEND;TZID=Europe/Stockholm:20260429T150000
DTSTAMP:20260419T195109
CREATED:20240925T121213Z
LAST-MODIFIED:20250114T120822Z
UID:10006564-1777456800-1777474800@integrationuppsala.se
SUMMARY:Språkträning och läxhjälp på Röda Korset
DESCRIPTION:Röda Korsets verksamhet Träffpunkten erbjuder stöd för dig som vill träna på det svenska språket eller behöver hjälp med läxorna. Stödet passar dig som till exempel studerar på SFI\, komvux\, gymnasiet eller grundskola\, men det går precis lika bra att komma hit utan läxor bara för att träna på svenska. \nTräffpunkten är en plats öppen för alla. Här möts besökare\, frivilliga och andra medarbetare under ett och samma tak. Hit kan du komma för att samtala\, språkträna\, läsa tidningen och njuta av gemenskapen. På Träffpunkten kan du också ta del av andra olika sociala och kulturella aktiviteter.
URL:https://integrationuppsala.se/aktivitet/spraktraning-och-laxhjalp-pa-roda-korset-2/2026-04-29/
LOCATION:Röda Korset Uppsala\, Trädgårdsgatan 16C\, 753 09 Uppsala\, Sverige
CATEGORIES:Arbete & Studier,Språk
ATTACH;FMTTYPE=image/webp:https://media.integrationuppsala.se/2024/09/spraktraningjpg_.webp
ORGANIZER;CN="R%C3%B6da Korset Uppsala":MAILTO:migration.uppsala@redcross.se
END:VEVENT
BEGIN:VEVENT
DTSTART;TZID=Europe/Stockholm:20260429T150000
DTEND;TZID=Europe/Stockholm:20260429T160000
DTSTAMP:20260419T195109
CREATED:20260227T134744Z
LAST-MODIFIED:20260227T134744Z
UID:10020847-1777474800-1777478400@integrationuppsala.se
SUMMARY:Prata med Eva!
DESCRIPTION:Vill du fortsätta att utveckla och stärka ditt svenska språk? SIU anordnar möten för de som har grundläggande kunskaper i svenska. \nEva Hedman har tidigare bland annat varit lektor i sociologi vid Umeå universitet. \nAnmälan görs till: info@siuppsala.se
URL:https://integrationuppsala.se/aktivitet/prata-med-eva/2026-04-29/
LOCATION:Online
CATEGORIES:Språk
ATTACH;FMTTYPE=image/png:https://media.integrationuppsala.se/2025/12/SIU-logga.png
ORGANIZER;CN="Samarbetsorganisationen f%C3%B6r invandrarf%C3%B6reningar i Uppsala (SIU)":MAILTO:info@siuppsala.se
END:VEVENT
BEGIN:VEVENT
DTSTART;TZID=Europe/Stockholm:20260429T160000
DTEND;TZID=Europe/Stockholm:20260429T173000
DTSTAMP:20260419T195109
CREATED:20251203T135335Z
LAST-MODIFIED:20251203T135335Z
UID:10020365-1777478400-1777483800@integrationuppsala.se
SUMMARY:Kurs i engelska
DESCRIPTION:Vill du fortsätta att utveckla och stärka dina engelskkunskaper? SIU anordnar flera olika kurser i engelska. Varmt välkommen! \nAnmälan görs till info@siuppsala.se
URL:https://integrationuppsala.se/aktivitet/kurs-i-engelska/2026-04-29/
LOCATION:Gottsunda Centrum\, Valthornsvägen 7\, Uppsala\, 75650
CATEGORIES:Språk
ATTACH;FMTTYPE=image/png:https://media.integrationuppsala.se/2025/12/SIU-logga.png
ORGANIZER;CN="Samarbetsorganisationen f%C3%B6r invandrarf%C3%B6reningar i Uppsala (SIU)":MAILTO:info@siuppsala.se
END:VEVENT
BEGIN:VEVENT
DTSTART;TZID=Europe/Stockholm:20260430T100000
DTEND;TZID=Europe/Stockholm:20260430T150000
DTSTAMP:20260419T195109
CREATED:20240925T121213Z
LAST-MODIFIED:20250114T120822Z
UID:10006565-1777543200-1777561200@integrationuppsala.se
SUMMARY:Språkträning och läxhjälp på Röda Korset
DESCRIPTION:Röda Korsets verksamhet Träffpunkten erbjuder stöd för dig som vill träna på det svenska språket eller behöver hjälp med läxorna. Stödet passar dig som till exempel studerar på SFI\, komvux\, gymnasiet eller grundskola\, men det går precis lika bra att komma hit utan läxor bara för att träna på svenska. \nTräffpunkten är en plats öppen för alla. Här möts besökare\, frivilliga och andra medarbetare under ett och samma tak. Hit kan du komma för att samtala\, språkträna\, läsa tidningen och njuta av gemenskapen. På Träffpunkten kan du också ta del av andra olika sociala och kulturella aktiviteter.
URL:https://integrationuppsala.se/aktivitet/spraktraning-och-laxhjalp-pa-roda-korset-2/2026-04-30/
LOCATION:Röda Korset Uppsala\, Trädgårdsgatan 16C\, 753 09 Uppsala\, Sverige
CATEGORIES:Arbete & Studier,Språk
ATTACH;FMTTYPE=image/webp:https://media.integrationuppsala.se/2024/09/spraktraningjpg_.webp
ORGANIZER;CN="R%C3%B6da Korset Uppsala":MAILTO:migration.uppsala@redcross.se
END:VEVENT
BEGIN:VEVENT
DTSTART;TZID=Europe/Stockholm:20260430T110000
DTEND;TZID=Europe/Stockholm:20260430T140000
DTSTAMP:20260419T195109
CREATED:20260130T102215Z
LAST-MODIFIED:20260130T103508Z
UID:10020723-1777546800-1777557600@integrationuppsala.se
SUMMARY:Kurs i engelska (digital)
DESCRIPTION:Vill du fortsätta att utveckla och stärka dina engelskkunskaper? SIU anordnar flera olika kurser i engelska på olika nivåer.  \nDessa digitala kurser finns på två nivåer: en för dig som är nybörjare i engelska\, och en för dig som redan har en del engelskkunskaper. Varmt välkommen! \nAnmälan görs till info@siuppsala.se
URL:https://integrationuppsala.se/aktivitet/kurs-i-engelska-digital/2026-04-30/
LOCATION:Online
CATEGORIES:Språk
ATTACH;FMTTYPE=image/png:https://media.integrationuppsala.se/2025/12/SIU-logga.png
ORGANIZER;CN="Samarbetsorganisationen f%C3%B6r invandrarf%C3%B6reningar i Uppsala (SIU)":MAILTO:info@siuppsala.se
END:VEVENT
BEGIN:VEVENT
DTSTART;TZID=Europe/Stockholm:20260430T123000
DTEND;TZID=Europe/Stockholm:20260430T153000
DTSTAMP:20260419T195109
CREATED:20260226T102526Z
LAST-MODIFIED:20260226T102526Z
UID:10020830-1777552200-1777563000@integrationuppsala.se
SUMMARY:Jollen – NybyVisions öppna förskola
DESCRIPTION:Jollen är NybyVisions öppna förskola\, en mångkulturell mötesplats för vuxna med barn i åldrarna 0-6 år. Öppet fyra dagar per vecka. \nDu behöver inte anmäla dig och kan komma och gå när du vill under öppettiderna. \nDet kostar ingenting att vara med. \nI Jollen kan barnen leka och träffa andra barn. Det är också en mötesplats där man som vuxen kan få nya vänner samt få råd och stöd i olika frågor. \nVarje vecka finns det planerade skapande- och rörelseaktiviteter samt möjlighet att träna svenska språket och få samhällsinformation. \nVarje dag finns det mellanmål som är gratis för barn och andra som behöver. Den som har möjlighet betalar ett självkostnadspris. Micro finns om man vill värma egen mat till sitt barn. \nFacebook: ”Jollen – NybyVisions öppna förskola”
URL:https://integrationuppsala.se/aktivitet/jollen-nybyvisions-oppna-forskola-2/2026-04-30/
LOCATION:Nyby vision\, Odensgatan 8\, 75315 Uppsala\, Odensgatan 8\, Uppsala\, 75315\, Sverige
CATEGORIES:Barn & Ungdomar,Rådgivning,Skapande verksamhet,Socialt,Språk
ATTACH;FMTTYPE=image/jpeg:https://media.integrationuppsala.se/2025/02/skylt-med-babblarna.jpg
ORGANIZER;CN="NybyVision":MAILTO:info@nybyvision.se
END:VEVENT
END:VCALENDAR