BEGIN:VCALENDAR
VERSION:2.0
PRODID:-//Integration Uppsala - ECPv6.15.20//NONSGML v1.0//EN
CALSCALE:GREGORIAN
METHOD:PUBLISH
X-WR-CALNAME:Integration Uppsala
X-ORIGINAL-URL:https://integrationuppsala.se
X-WR-CALDESC:Händelser för Integration Uppsala
REFRESH-INTERVAL;VALUE=DURATION:PT1H
X-Robots-Tag:noindex
X-PUBLISHED-TTL:PT1H
BEGIN:VTIMEZONE
TZID:Europe/Stockholm
BEGIN:DAYLIGHT
TZOFFSETFROM:+0100
TZOFFSETTO:+0200
TZNAME:CEST
DTSTART:20250330T010000
END:DAYLIGHT
BEGIN:STANDARD
TZOFFSETFROM:+0200
TZOFFSETTO:+0100
TZNAME:CET
DTSTART:20251026T010000
END:STANDARD
BEGIN:DAYLIGHT
TZOFFSETFROM:+0100
TZOFFSETTO:+0200
TZNAME:CEST
DTSTART:20260329T010000
END:DAYLIGHT
BEGIN:STANDARD
TZOFFSETFROM:+0200
TZOFFSETTO:+0100
TZNAME:CET
DTSTART:20261025T010000
END:STANDARD
BEGIN:DAYLIGHT
TZOFFSETFROM:+0100
TZOFFSETTO:+0200
TZNAME:CEST
DTSTART:20270328T010000
END:DAYLIGHT
BEGIN:STANDARD
TZOFFSETFROM:+0200
TZOFFSETTO:+0100
TZNAME:CET
DTSTART:20271031T010000
END:STANDARD
END:VTIMEZONE
BEGIN:VEVENT
DTSTART;TZID=Europe/Stockholm:20260730T180000
DTEND;TZID=Europe/Stockholm:20260730T203000
DTSTAMP:20260420T102553
CREATED:20240925T125852Z
LAST-MODIFIED:20250114T125053Z
UID:10007630-1785434400-1785443400@integrationuppsala.se
SUMMARY:Drop in-mottagning
DESCRIPTION:Läkare i Världen Uppsala (LiV Ua) ger gratis hälso- och sjukvård till dem som inte kan få det i den vanliga vården. Vi har läkare\, sjuksköterskor\, psykologer/kuratorer samt fysioterapeuter. Vi erbjuder gratis HIV-test.
URL:https://integrationuppsala.se/aktivitet/drop-in-mottagning/2026-07-30/
LOCATION:Nyby vision\, Odensgatan 8\, 75315 Uppsala\, Odensgatan 8\, Uppsala\, 75315\, Sverige
CATEGORIES:Hälsa och sjukvård
ATTACH;FMTTYPE=image/png:https://media.integrationuppsala.se/2024/09/Namnlos-design.png
ORGANIZER;CN="L%C3%A4kare i V%C3%A4rlden Uppsala":MAILTO:uppsala@lakareivarlden.se
END:VEVENT
END:VCALENDAR