BEGIN:VCALENDAR
VERSION:2.0
PRODID:-//Integration Uppsala - ECPv6.15.20//NONSGML v1.0//EN
CALSCALE:GREGORIAN
METHOD:PUBLISH
X-WR-CALNAME:Integration Uppsala
X-ORIGINAL-URL:https://integrationuppsala.se
X-WR-CALDESC:Händelser för Integration Uppsala
REFRESH-INTERVAL;VALUE=DURATION:PT1H
X-Robots-Tag:noindex
X-PUBLISHED-TTL:PT1H
BEGIN:VTIMEZONE
TZID:Europe/Stockholm
BEGIN:DAYLIGHT
TZOFFSETFROM:+0100
TZOFFSETTO:+0200
TZNAME:CEST
DTSTART:20240331T010000
END:DAYLIGHT
BEGIN:STANDARD
TZOFFSETFROM:+0200
TZOFFSETTO:+0100
TZNAME:CET
DTSTART:20241027T010000
END:STANDARD
BEGIN:DAYLIGHT
TZOFFSETFROM:+0100
TZOFFSETTO:+0200
TZNAME:CEST
DTSTART:20250330T010000
END:DAYLIGHT
BEGIN:STANDARD
TZOFFSETFROM:+0200
TZOFFSETTO:+0100
TZNAME:CET
DTSTART:20251026T010000
END:STANDARD
BEGIN:DAYLIGHT
TZOFFSETFROM:+0100
TZOFFSETTO:+0200
TZNAME:CEST
DTSTART:20260329T010000
END:DAYLIGHT
BEGIN:STANDARD
TZOFFSETFROM:+0200
TZOFFSETTO:+0100
TZNAME:CET
DTSTART:20261025T010000
END:STANDARD
END:VTIMEZONE
BEGIN:VEVENT
DTSTART;TZID=Europe/Stockholm:20250429T173000
DTEND;TZID=Europe/Stockholm:20250429T193000
DTSTAMP:20260421T152821
CREATED:20250404T110200Z
LAST-MODIFIED:20250404T110200Z
UID:10009090-1745947800-1745955000@integrationuppsala.se
SUMMARY:Cykelkurser (tisdag och torsdag)
DESCRIPTION:Cykelkurser för vuxna personer i arbetsför ålder som inte kan cykla – och som vill lära sig cykla.\n6-7 kurstillfällen\, kvällstid Viktigt att komma på alla 6-7 tillfällen för att kunna lära sig cykla.\nCykelövningar\, teori och fika\nCyklar och hjälmar finns att låna\nPersonerna får lära sig cykla från grunden med hjälp av våra instruktörer och en speciell metod:\nTräna att hålla balansen\, bromsa och trampa\nOlika cykelövningar\, teori\, trafikregler och cyklingens fördelar\nMålet är att kunna cykla på cykelbanor och i backar \nCykelkurserna genomförs av Frihet på Cykel\, Uppsala med stöd från Uppsala kommun.\nPlats: Gottsunda Centrum Entrén på baksidan\, nära Gottsundahallen
URL:https://integrationuppsala.se/aktivitet/cykelkurser-tisdag-och-torsdag/2025-04-29/
LOCATION:Gottsunda Centrum (entrén på baksidan)\, Valthornsvägen 7\, Uppsala\, 756 50
CATEGORIES:Friluftsliv,Idrott
ATTACH;FMTTYPE=image/jpeg:https://media.integrationuppsala.se/2025/04/Bild-cykelkurs-2.jpg
ORGANIZER;CN="Cykelfr%C3%A4mjandet i Uppsala":MAILTO:helena.haglof@cykelframjandet.se
END:VEVENT
END:VCALENDAR