BEGIN:VCALENDAR
VERSION:2.0
PRODID:-//Integration Uppsala - ECPv6.15.20//NONSGML v1.0//EN
CALSCALE:GREGORIAN
METHOD:PUBLISH
X-ORIGINAL-URL:https://integrationuppsala.se
X-WR-CALDESC:Händelser för Integration Uppsala
REFRESH-INTERVAL;VALUE=DURATION:PT1H
X-Robots-Tag:noindex
X-PUBLISHED-TTL:PT1H
BEGIN:VTIMEZONE
TZID:Europe/Stockholm
BEGIN:DAYLIGHT
TZOFFSETFROM:+0100
TZOFFSETTO:+0200
TZNAME:CEST
DTSTART:20240331T010000
END:DAYLIGHT
BEGIN:STANDARD
TZOFFSETFROM:+0200
TZOFFSETTO:+0100
TZNAME:CET
DTSTART:20241027T010000
END:STANDARD
BEGIN:DAYLIGHT
TZOFFSETFROM:+0100
TZOFFSETTO:+0200
TZNAME:CEST
DTSTART:20250330T010000
END:DAYLIGHT
BEGIN:STANDARD
TZOFFSETFROM:+0200
TZOFFSETTO:+0100
TZNAME:CET
DTSTART:20251026T010000
END:STANDARD
BEGIN:DAYLIGHT
TZOFFSETFROM:+0100
TZOFFSETTO:+0200
TZNAME:CEST
DTSTART:20260329T010000
END:DAYLIGHT
BEGIN:STANDARD
TZOFFSETFROM:+0200
TZOFFSETTO:+0100
TZNAME:CET
DTSTART:20261025T010000
END:STANDARD
END:VTIMEZONE
BEGIN:VEVENT
DTSTART;TZID=Europe/Stockholm:20250505T173000
DTEND;TZID=Europe/Stockholm:20250505T193000
DTSTAMP:20260423T195512
CREATED:20250404T104429Z
LAST-MODIFIED:20250404T104813Z
UID:10009084-1746466200-1746473400@integrationuppsala.se
SUMMARY:Cykelkurser (måndag och onsdag)
DESCRIPTION:Cykelkurser för vuxna personer i arbetsför ålder som inte kan cykla – och som vill lära sig cykla.\n6-7 kurstillfällen\, kvällstid Viktigt att komma på alla 6-7 tillfällen för att kunna lära sig cykla.\nCykelövningar\, teori och fika\nCyklar och hjälmar finns att låna\nPersonerna får lära sig cykla från grunden med hjälp av våra instruktörer och en speciell metod:\nTräna att hålla balansen\, bromsa och trampa\nOlika cykelövningar\, teori\, trafikregler och cyklingens fördelar\nMålet är att kunna cykla på cykelbanor och i backar \nCykelkurserna genomförs av Frihet på Cykel\, Uppsala med stöd från Uppsala kommun.\nPlats: Gottsunda Centrum Entrén på baksidan\, nära Gottsundahallen
URL:https://integrationuppsala.se/aktivitet/cykelkurser/2025-05-05/
LOCATION:Gottsunda Centrum (entrén på baksidan)\, Valthornsvägen 7\, Uppsala\, 756 50
CATEGORIES:Friluftsliv,Idrott
ATTACH;FMTTYPE=image/jpeg:https://media.integrationuppsala.se/2025/04/Bild-cykelkurs-2.jpg
ORGANIZER;CN="Cykelfr%C3%A4mjandet i Uppsala":MAILTO:helena.haglof@cykelframjandet.se
END:VEVENT
BEGIN:VEVENT
DTSTART;TZID=Europe/Stockholm:20250506T173000
DTEND;TZID=Europe/Stockholm:20250506T193000
DTSTAMP:20260423T195512
CREATED:20250404T110200Z
LAST-MODIFIED:20250404T110200Z
UID:10009091-1746552600-1746559800@integrationuppsala.se
SUMMARY:Cykelkurser (tisdag och torsdag)
DESCRIPTION:Cykelkurser för vuxna personer i arbetsför ålder som inte kan cykla – och som vill lära sig cykla.\n6-7 kurstillfällen\, kvällstid Viktigt att komma på alla 6-7 tillfällen för att kunna lära sig cykla.\nCykelövningar\, teori och fika\nCyklar och hjälmar finns att låna\nPersonerna får lära sig cykla från grunden med hjälp av våra instruktörer och en speciell metod:\nTräna att hålla balansen\, bromsa och trampa\nOlika cykelövningar\, teori\, trafikregler och cyklingens fördelar\nMålet är att kunna cykla på cykelbanor och i backar \nCykelkurserna genomförs av Frihet på Cykel\, Uppsala med stöd från Uppsala kommun.\nPlats: Gottsunda Centrum Entrén på baksidan\, nära Gottsundahallen
URL:https://integrationuppsala.se/aktivitet/cykelkurser-tisdag-och-torsdag/2025-05-06/
LOCATION:Gottsunda Centrum (entrén på baksidan)\, Valthornsvägen 7\, Uppsala\, 756 50
CATEGORIES:Friluftsliv,Idrott
ATTACH;FMTTYPE=image/jpeg:https://media.integrationuppsala.se/2025/04/Bild-cykelkurs-2.jpg
ORGANIZER;CN="Cykelfr%C3%A4mjandet i Uppsala":MAILTO:helena.haglof@cykelframjandet.se
END:VEVENT
BEGIN:VEVENT
DTSTART;TZID=Europe/Stockholm:20250507T173000
DTEND;TZID=Europe/Stockholm:20250507T193000
DTSTAMP:20260423T195512
CREATED:20250404T104429Z
LAST-MODIFIED:20250404T104813Z
UID:10009085-1746639000-1746646200@integrationuppsala.se
SUMMARY:Cykelkurser (måndag och onsdag)
DESCRIPTION:Cykelkurser för vuxna personer i arbetsför ålder som inte kan cykla – och som vill lära sig cykla.\n6-7 kurstillfällen\, kvällstid Viktigt att komma på alla 6-7 tillfällen för att kunna lära sig cykla.\nCykelövningar\, teori och fika\nCyklar och hjälmar finns att låna\nPersonerna får lära sig cykla från grunden med hjälp av våra instruktörer och en speciell metod:\nTräna att hålla balansen\, bromsa och trampa\nOlika cykelövningar\, teori\, trafikregler och cyklingens fördelar\nMålet är att kunna cykla på cykelbanor och i backar \nCykelkurserna genomförs av Frihet på Cykel\, Uppsala med stöd från Uppsala kommun.\nPlats: Gottsunda Centrum Entrén på baksidan\, nära Gottsundahallen
URL:https://integrationuppsala.se/aktivitet/cykelkurser/2025-05-07/
LOCATION:Gottsunda Centrum (entrén på baksidan)\, Valthornsvägen 7\, Uppsala\, 756 50
CATEGORIES:Friluftsliv,Idrott
ATTACH;FMTTYPE=image/jpeg:https://media.integrationuppsala.se/2025/04/Bild-cykelkurs-2.jpg
ORGANIZER;CN="Cykelfr%C3%A4mjandet i Uppsala":MAILTO:helena.haglof@cykelframjandet.se
END:VEVENT
BEGIN:VEVENT
DTSTART;TZID=Europe/Stockholm:20250508T173000
DTEND;TZID=Europe/Stockholm:20250508T193000
DTSTAMP:20260423T195512
CREATED:20250404T110200Z
LAST-MODIFIED:20250404T110200Z
UID:10009092-1746725400-1746732600@integrationuppsala.se
SUMMARY:Cykelkurser (tisdag och torsdag)
DESCRIPTION:Cykelkurser för vuxna personer i arbetsför ålder som inte kan cykla – och som vill lära sig cykla.\n6-7 kurstillfällen\, kvällstid Viktigt att komma på alla 6-7 tillfällen för att kunna lära sig cykla.\nCykelövningar\, teori och fika\nCyklar och hjälmar finns att låna\nPersonerna får lära sig cykla från grunden med hjälp av våra instruktörer och en speciell metod:\nTräna att hålla balansen\, bromsa och trampa\nOlika cykelövningar\, teori\, trafikregler och cyklingens fördelar\nMålet är att kunna cykla på cykelbanor och i backar \nCykelkurserna genomförs av Frihet på Cykel\, Uppsala med stöd från Uppsala kommun.\nPlats: Gottsunda Centrum Entrén på baksidan\, nära Gottsundahallen
URL:https://integrationuppsala.se/aktivitet/cykelkurser-tisdag-och-torsdag/2025-05-08/
LOCATION:Gottsunda Centrum (entrén på baksidan)\, Valthornsvägen 7\, Uppsala\, 756 50
CATEGORIES:Friluftsliv,Idrott
ATTACH;FMTTYPE=image/jpeg:https://media.integrationuppsala.se/2025/04/Bild-cykelkurs-2.jpg
ORGANIZER;CN="Cykelfr%C3%A4mjandet i Uppsala":MAILTO:helena.haglof@cykelframjandet.se
END:VEVENT
BEGIN:VEVENT
DTSTART;TZID=Europe/Stockholm:20250512T173000
DTEND;TZID=Europe/Stockholm:20250512T193000
DTSTAMP:20260423T195512
CREATED:20250404T104429Z
LAST-MODIFIED:20250404T104813Z
UID:10009086-1747071000-1747078200@integrationuppsala.se
SUMMARY:Cykelkurser (måndag och onsdag)
DESCRIPTION:Cykelkurser för vuxna personer i arbetsför ålder som inte kan cykla – och som vill lära sig cykla.\n6-7 kurstillfällen\, kvällstid Viktigt att komma på alla 6-7 tillfällen för att kunna lära sig cykla.\nCykelövningar\, teori och fika\nCyklar och hjälmar finns att låna\nPersonerna får lära sig cykla från grunden med hjälp av våra instruktörer och en speciell metod:\nTräna att hålla balansen\, bromsa och trampa\nOlika cykelövningar\, teori\, trafikregler och cyklingens fördelar\nMålet är att kunna cykla på cykelbanor och i backar \nCykelkurserna genomförs av Frihet på Cykel\, Uppsala med stöd från Uppsala kommun.\nPlats: Gottsunda Centrum Entrén på baksidan\, nära Gottsundahallen
URL:https://integrationuppsala.se/aktivitet/cykelkurser/2025-05-12/
LOCATION:Gottsunda Centrum (entrén på baksidan)\, Valthornsvägen 7\, Uppsala\, 756 50
CATEGORIES:Friluftsliv,Idrott
ATTACH;FMTTYPE=image/jpeg:https://media.integrationuppsala.se/2025/04/Bild-cykelkurs-2.jpg
ORGANIZER;CN="Cykelfr%C3%A4mjandet i Uppsala":MAILTO:helena.haglof@cykelframjandet.se
END:VEVENT
BEGIN:VEVENT
DTSTART;TZID=Europe/Stockholm:20250513T173000
DTEND;TZID=Europe/Stockholm:20250513T193000
DTSTAMP:20260423T195512
CREATED:20250404T110200Z
LAST-MODIFIED:20250404T110200Z
UID:10009093-1747157400-1747164600@integrationuppsala.se
SUMMARY:Cykelkurser (tisdag och torsdag)
DESCRIPTION:Cykelkurser för vuxna personer i arbetsför ålder som inte kan cykla – och som vill lära sig cykla.\n6-7 kurstillfällen\, kvällstid Viktigt att komma på alla 6-7 tillfällen för att kunna lära sig cykla.\nCykelövningar\, teori och fika\nCyklar och hjälmar finns att låna\nPersonerna får lära sig cykla från grunden med hjälp av våra instruktörer och en speciell metod:\nTräna att hålla balansen\, bromsa och trampa\nOlika cykelövningar\, teori\, trafikregler och cyklingens fördelar\nMålet är att kunna cykla på cykelbanor och i backar \nCykelkurserna genomförs av Frihet på Cykel\, Uppsala med stöd från Uppsala kommun.\nPlats: Gottsunda Centrum Entrén på baksidan\, nära Gottsundahallen
URL:https://integrationuppsala.se/aktivitet/cykelkurser-tisdag-och-torsdag/2025-05-13/
LOCATION:Gottsunda Centrum (entrén på baksidan)\, Valthornsvägen 7\, Uppsala\, 756 50
CATEGORIES:Friluftsliv,Idrott
ATTACH;FMTTYPE=image/jpeg:https://media.integrationuppsala.se/2025/04/Bild-cykelkurs-2.jpg
ORGANIZER;CN="Cykelfr%C3%A4mjandet i Uppsala":MAILTO:helena.haglof@cykelframjandet.se
END:VEVENT
BEGIN:VEVENT
DTSTART;TZID=Europe/Stockholm:20250514T173000
DTEND;TZID=Europe/Stockholm:20250514T193000
DTSTAMP:20260423T195512
CREATED:20250404T104429Z
LAST-MODIFIED:20250404T104813Z
UID:10009087-1747243800-1747251000@integrationuppsala.se
SUMMARY:Cykelkurser (måndag och onsdag)
DESCRIPTION:Cykelkurser för vuxna personer i arbetsför ålder som inte kan cykla – och som vill lära sig cykla.\n6-7 kurstillfällen\, kvällstid Viktigt att komma på alla 6-7 tillfällen för att kunna lära sig cykla.\nCykelövningar\, teori och fika\nCyklar och hjälmar finns att låna\nPersonerna får lära sig cykla från grunden med hjälp av våra instruktörer och en speciell metod:\nTräna att hålla balansen\, bromsa och trampa\nOlika cykelövningar\, teori\, trafikregler och cyklingens fördelar\nMålet är att kunna cykla på cykelbanor och i backar \nCykelkurserna genomförs av Frihet på Cykel\, Uppsala med stöd från Uppsala kommun.\nPlats: Gottsunda Centrum Entrén på baksidan\, nära Gottsundahallen
URL:https://integrationuppsala.se/aktivitet/cykelkurser/2025-05-14/
LOCATION:Gottsunda Centrum (entrén på baksidan)\, Valthornsvägen 7\, Uppsala\, 756 50
CATEGORIES:Friluftsliv,Idrott
ATTACH;FMTTYPE=image/jpeg:https://media.integrationuppsala.se/2025/04/Bild-cykelkurs-2.jpg
ORGANIZER;CN="Cykelfr%C3%A4mjandet i Uppsala":MAILTO:helena.haglof@cykelframjandet.se
END:VEVENT
BEGIN:VEVENT
DTSTART;TZID=Europe/Stockholm:20250515T173000
DTEND;TZID=Europe/Stockholm:20250515T193000
DTSTAMP:20260423T195512
CREATED:20250404T110200Z
LAST-MODIFIED:20250404T110200Z
UID:10009094-1747330200-1747337400@integrationuppsala.se
SUMMARY:Cykelkurser (tisdag och torsdag)
DESCRIPTION:Cykelkurser för vuxna personer i arbetsför ålder som inte kan cykla – och som vill lära sig cykla.\n6-7 kurstillfällen\, kvällstid Viktigt att komma på alla 6-7 tillfällen för att kunna lära sig cykla.\nCykelövningar\, teori och fika\nCyklar och hjälmar finns att låna\nPersonerna får lära sig cykla från grunden med hjälp av våra instruktörer och en speciell metod:\nTräna att hålla balansen\, bromsa och trampa\nOlika cykelövningar\, teori\, trafikregler och cyklingens fördelar\nMålet är att kunna cykla på cykelbanor och i backar \nCykelkurserna genomförs av Frihet på Cykel\, Uppsala med stöd från Uppsala kommun.\nPlats: Gottsunda Centrum Entrén på baksidan\, nära Gottsundahallen
URL:https://integrationuppsala.se/aktivitet/cykelkurser-tisdag-och-torsdag/2025-05-15/
LOCATION:Gottsunda Centrum (entrén på baksidan)\, Valthornsvägen 7\, Uppsala\, 756 50
CATEGORIES:Friluftsliv,Idrott
ATTACH;FMTTYPE=image/jpeg:https://media.integrationuppsala.se/2025/04/Bild-cykelkurs-2.jpg
ORGANIZER;CN="Cykelfr%C3%A4mjandet i Uppsala":MAILTO:helena.haglof@cykelframjandet.se
END:VEVENT
END:VCALENDAR